FILENAME: O4610756.NWS.1010576.tif
QUADRANGLE_NAME: WOODS WATER
QUADRANT: NW
WEST_LONGITUDE: -107 7 30.00000
EAST_LONGITUDE: -107 3 45.00000
NORTH_LATITUDE: 46 15 0.00000
SOUTH_LATITUDE: 46 11 15.00000
PRODUCTION_DATE: 1999 5 24
RASTER_ORDER: LEFT_RIGHT/TOP_BOTTOM
BAND_ORGANIZATION: SINGLE FILE
BAND_CONTENT: BLACK&WHITE
BAND_CONTENT: UNDEFINED
BAND_CONTENT: UNDEFINED
BITS_PER_PIXEL: 8
SAMPLES_AND_LINES: 5654 7674
HORIZONTAL_DATUM: NAD83
HORIZONTAL_COORDINATE_SYSTEM: UTM
COORDINATE_ZONE: 13
HORIZONTAL_UNITS: METERS
HORIZONTAL_RESOLUTION: 1.00000
SECONDARY_HORIZONTAL_DATUM: NAD27
XY_ORIGIN: 335666.00000 5124320.00000
SECONDARY_XY_ORIGIN: 335708.24200 5124101.93000
NATION: US
NATION: "SCIENCE
STATE: MT
NW_QUAD_CORNER_XY: 336200.55300 5124019.50400
NE_QUAD_CORNER_XY: 341018.09400 5123892.27800
SE_QUAD_CORNERY_XY: 340837.53700 5116948.01800
SW_QUAD_CORNER_XY: 336014.52000 5117075.25600
SECONDARY_NW_QUAD_XY: 336195.58400 5123801.43800
SECONDARY_NE_QUAD_XY: 341013.27200 5123674.20800
SECONDARY_SE_QUAD_XY: 340832.71500 5116729.98700
SECONDARY_SW_QUAD_XY: 336009.55200 5116857.22900
RMSE_XY: 1.40000
IMAGE_SOURCE: BLACK AND WHITE FILM
SOURCE_IMAGE_ID: NAPP 9099 207
SOURCE_IMAGE_DATE: 1996 07 14
SOURCE_IMAGE_ID: NAPP 9100 038
SOURCE_IMAGE_DATE: 1996 07 14
SOURCE_DEM_DATE: 1971 00 00
AGENCY: WESTERN MAPPING CENTER (WMC)
PRODUCER: UNDEFINED
PRODUCTION_SYSTEM: GIS/MAGIC
COMPRESSION: UNDEFINED
STANDARD_VERSION: 1996 12
METADATA_DATE: 1999 06 07
DATA_FILE_SIZE: 43394450
BYTE_COUNT: 5654
