FILENAME: O4610754.SES.1010561.tif
QUADRANGLE_NAME: ELDERING RANCH
QUADRANT: SE
WEST_LONGITUDE: -107 18 45.00000
EAST_LONGITUDE: -107 15 0.00000
NORTH_LATITUDE: 46 11 15.00000
SOUTH_LATITUDE: 46 7 30.00000
PRODUCTION_DATE: 1999 5 24
RASTER_ORDER: LEFT_RIGHT/TOP_BOTTOM
BAND_ORGANIZATION: SINGLE FILE
BAND_CONTENT: BLACK&WHITE
BAND_CONTENT: UNDEFINED
BAND_CONTENT: UNDEFINED
BITS_PER_PIXEL: 8
SAMPLES_AND_LINES: 5676 7686
HORIZONTAL_DATUM: NAD83
HORIZONTAL_COORDINATE_SYSTEM: UTM
COORDINATE_ZONE: 13
HORIZONTAL_UNITS: METERS
HORIZONTAL_RESOLUTION: 1.00000
SECONDARY_HORIZONTAL_DATUM: NAD27
XY_ORIGIN: 320994.00000 5117780.00000
SECONDARY_XY_ORIGIN: 321036.50700 5117561.97800
NATION: US
NATION: "SCIENCE
STATE: MT
NW_QUAD_CORNER_XY: 321545.51700 5117479.78100
NE_QUAD_CORNER_XY: 326368.50900 5117341.13700
SE_QUAD_CORNERY_XY: 326171.73100 5110396.97800
SW_QUAD_CORNER_XY: 321343.26600 5110535.63300
SECONDARY_NW_QUAD_XY: 321540.11100 5117261.76600
SECONDARY_NE_QUAD_XY: 326363.25000 5117123.11800
SECONDARY_SE_QUAD_XY: 326166.47200 5110178.99900
SECONDARY_SW_QUAD_XY: 321337.86100 5110317.65800
RMSE_XY: 1.40000
IMAGE_SOURCE: BLACK AND WHITE FILM
SOURCE_IMAGE_ID: NAPP 9126 032
SOURCE_IMAGE_DATE: 1996 07 14
SOURCE_IMAGE_ID: NAPP 9133 075
SOURCE_IMAGE_DATE: 1996 08 08
SOURCE_IMAGE_ID: NAPP 9126 033
SOURCE_IMAGE_DATE: 1996 07 14
SOURCE_DEM_DATE: 1956 00 00
AGENCY: WESTERN MAPPING CENTER (WMC)
PRODUCER: UNDEFINED
PRODUCTION_SYSTEM: GIS/MAGIC
COMPRESSION: UNDEFINED
STANDARD_VERSION: 1996 12
METADATA_DATE: 1999 06 07
DATA_FILE_SIZE: 43631412
BYTE_COUNT: 5676
