FILENAME: O4610749.NES.1006675.tif
QUADRANGLE_NAME: BULL MOUNTAIN NW
QUADRANT: NE
WEST_LONGITUDE: -107 56 15.00000
EAST_LONGITUDE: -107 52 30.00000
NORTH_LATITUDE: 46 15 0.00000
SOUTH_LATITUDE: 46 11 15.00000
PRODUCTION_DATE: 1999 4 23
RASTER_ORDER: LEFT_RIGHT/TOP_BOTTOM
BAND_ORGANIZATION: SINGLE FILE
BAND_CONTENT: BLACK&WHITE
BAND_CONTENT: UNDEFINED
BAND_CONTENT: UNDEFINED
BITS_PER_PIXEL: 8
SAMPLES_AND_LINES: 5728 7724
HORIZONTAL_DATUM: NAD83
HORIZONTAL_COORDINATE_SYSTEM: UTM
COORDINATE_ZONE: 13
HORIZONTAL_UNITS: METERS
HORIZONTAL_RESOLUTION: 1.00000
SECONDARY_HORIZONTAL_DATUM: NAD27
XY_ORIGIN: 272964.00000 5126320.00000
SECONDARY_XY_ORIGIN: 273007.98900 5126102.71900
NATION: US
NATION: "SCIENCE
STATE: MT
NW_QUAD_CORNER_XY: 273573.37200 5126019.46900
NE_QUAD_CORNER_XY: 278390.78400 5125842.80200
SE_QUAD_CORNERY_XY: 278139.00200 5118898.72100
SW_QUAD_CORNER_XY: 273316.10700 5119075.40400
SECONDARY_NW_QUAD_XY: 273566.50300 5125801.46400
SECONDARY_NE_QUAD_XY: 278384.06200 5125624.79200
SECONDARY_SE_QUAD_XY: 278132.28000 5118680.74900
SECONDARY_SW_QUAD_XY: 273309.23900 5118857.43700
RMSE_XY: 1.40000
IMAGE_SOURCE: BLACK AND WHITE FILM
SOURCE_IMAGE_ID: NAPP 9151 063
SOURCE_IMAGE_DATE: 1996 09 11
SOURCE_IMAGE_ID: NAPP 9151 062
SOURCE_IMAGE_DATE: 1996 09 11
SOURCE_DEM_DATE: 1973 00 00
AGENCY: WESTERN MAPPING CENTER (WMC)
PRODUCER: UNDEFINED
PRODUCTION_SYSTEM: GIS/MAGIC
COMPRESSION: UNDEFINED
STANDARD_VERSION: 1996 12
METADATA_DATE: 1999 05 18
DATA_FILE_SIZE: 44248800
BYTE_COUNT: 5728
