FILENAME: O4610749.SWS.1006684.tif
QUADRANGLE_NAME: BULL MOUNTAIN NW
QUADRANT: SW
WEST_LONGITUDE: -108 0 0.00000
EAST_LONGITUDE: -107 56 15.00000
NORTH_LATITUDE: 46 11 15.00000
SOUTH_LATITUDE: 46 7 30.00000
PRODUCTION_DATE: 1999 4 23
RASTER_ORDER: LEFT_RIGHT/TOP_BOTTOM
BAND_ORGANIZATION: SINGLE FILE
BAND_CONTENT: BLACK&WHITE
BAND_CONTENT: UNDEFINED
BAND_CONTENT: UNDEFINED
BITS_PER_PIXEL: 8
SAMPLES_AND_LINES: 5740 7728
HORIZONTAL_DATUM: NAD83
HORIZONTAL_COORDINATE_SYSTEM: UTM
COORDINATE_ZONE: 13
HORIZONTAL_UNITS: METERS
HORIZONTAL_RESOLUTION: 1.00000
SECONDARY_HORIZONTAL_DATUM: NAD27
XY_ORIGIN: 267878.00000 5119556.00000
SECONDARY_XY_ORIGIN: 267922.30600 5119339.10300
NATION: US
NATION: "SCIENCE
STATE: MT
NW_QUAD_CORNER_XY: 268493.22300 5119255.89300
NE_QUAD_CORNER_XY: 273316.10700 5119075.40400
SE_QUAD_CORNERY_XY: 273059.11300 5112131.39500
SW_QUAD_CORNER_XY: 268230.75200 5112311.89900
SECONDARY_NW_QUAD_XY: 268486.20900 5119037.93200
SECONDARY_NE_QUAD_XY: 273309.23900 5118857.43700
SECONDARY_SE_QUAD_XY: 273052.24700 5111913.46800
SECONDARY_SW_QUAD_XY: 268223.73900 5112093.97800
RMSE_XY: 1.20000
IMAGE_SOURCE: BLACK AND WHITE FILM
SOURCE_IMAGE_ID: NAPP 9151 013
SOURCE_IMAGE_DATE: 1996 09 11
SOURCE_DEM_DATE: 1973 00 00
AGENCY: WESTERN MAPPING CENTER (WMC)
PRODUCER: UNDEFINED
PRODUCTION_SYSTEM: GIS/MAGIC
COMPRESSION: UNDEFINED
STANDARD_VERSION: 1996 12
METADATA_DATE: 1999 05 18
DATA_FILE_SIZE: 44364460
BYTE_COUNT: 5740
