FILENAME: O4610735.NWS.1008975.tif
QUADRANGLE_NAME: WEED CREEK EAST
QUADRANT: NW
WEST_LONGITUDE: -107 45 0.00000
EAST_LONGITUDE: -107 41 15.00000
NORTH_LATITUDE: 46 30 0.00000
SOUTH_LATITUDE: 46 26 15.00000
PRODUCTION_DATE: 1999 5 4
RASTER_ORDER: LEFT_RIGHT/TOP_BOTTOM
BAND_ORGANIZATION: SINGLE FILE
BAND_CONTENT: BLACK&WHITE
BAND_CONTENT: UNDEFINED
BAND_CONTENT: UNDEFINED
BITS_PER_PIXEL: 8
SAMPLES_AND_LINES: 5690 7712
HORIZONTAL_DATUM: NAD83
HORIZONTAL_COORDINATE_SYSTEM: UTM
COORDINATE_ZONE: 13
HORIZONTAL_UNITS: METERS
HORIZONTAL_RESOLUTION: 1.00000
SECONDARY_HORIZONTAL_DATUM: NAD27
XY_ORIGIN: 288398.00000 5153578.00000
SECONDARY_XY_ORIGIN: 288441.74600 5153360.05000
NATION: US
NATION: "SCIENCE
STATE: MT
NW_QUAD_CORNER_XY: 288991.45400 5153277.92400
NE_QUAD_CORNER_XY: 293786.92000 5153112.74000
SE_QUAD_CORNERY_XY: 293550.59100 5146168.37400
SW_QUAD_CORNER_XY: 288749.62200 5146333.57600
SECONDARY_NW_QUAD_XY: 288985.01900 5153059.75600
SECONDARY_NE_QUAD_XY: 293780.63100 5152894.56700
SECONDARY_SE_QUAD_XY: 293544.30300 5145950.23600
SECONDARY_SW_QUAD_XY: 288743.18800 5146115.44300
RMSE_XY: 1.70000
IMAGE_SOURCE: BLACK AND WHITE FILM
SOURCE_IMAGE_ID: NAPP 9131 151
SOURCE_IMAGE_DATE: 1996 07 29
SOURCE_IMAGE_ID: NAPP 9131 149
SOURCE_IMAGE_DATE: 1996 07 29
SOURCE_DEM_DATE: 1973 00 00
AGENCY: WESTERN MAPPING CENTER (WMC)
PRODUCER: UNDEFINED
PRODUCTION_SYSTEM: GIS/MAGIC
COMPRESSION: UNDEFINED
STANDARD_VERSION: 1996 12
METADATA_DATE: 1999 05 24
DATA_FILE_SIZE: 43886970
BYTE_COUNT: 5690
