FILENAME: O4610733.NES.1008810.tif
QUADRANGLE_NAME: CHANDLER SPRING
QUADRANT: NE
WEST_LONGITUDE: -107 56 15.00000
EAST_LONGITUDE: -107 52 30.00000
NORTH_LATITUDE: 46 30 0.00000
SOUTH_LATITUDE: 46 26 15.00000
PRODUCTION_DATE: 1999 5 3
RASTER_ORDER: LEFT_RIGHT/TOP_BOTTOM
BAND_ORGANIZATION: SINGLE FILE
BAND_CONTENT: BLACK&WHITE
BAND_CONTENT: UNDEFINED
BAND_CONTENT: UNDEFINED
BITS_PER_PIXEL: 8
SAMPLES_AND_LINES: 5708 7725
HORIZONTAL_DATUM: NAD83
HORIZONTAL_COORDINATE_SYSTEM: UTM
COORDINATE_ZONE: 13
HORIZONTAL_UNITS: METERS
HORIZONTAL_RESOLUTION: 1.00000
SECONDARY_HORIZONTAL_DATUM: NAD27
XY_ORIGIN: 273994.00000 5154097.00000
SECONDARY_XY_ORIGIN: 274037.99500 5153879.35700
NATION: US
NATION: "SCIENCE
STATE: MT
NW_QUAD_CORNER_XY: 274605.13800 5153796.29300
NE_QUAD_CORNER_XY: 279400.56300 5153619.70000
SE_QUAD_CORNERY_XY: 279147.72200 5146675.39000
SW_QUAD_CORNER_XY: 274346.79100 5146852.00300
SECONDARY_NW_QUAD_XY: 274598.26300 5153578.14100
SECONDARY_NE_QUAD_XY: 279393.83500 5153401.54200
SECONDARY_SE_QUAD_XY: 279140.99500 5146457.26800
SECONDARY_SW_QUAD_XY: 274339.91800 5146633.88600
RMSE_XY: 2.80000
IMAGE_SOURCE: BLACK AND WHITE FILM
SOURCE_IMAGE_ID: NAPP 9132 145
SOURCE_IMAGE_DATE: 1996 07 29
SOURCE_IMAGE_ID: NAPP 9132 153
SOURCE_IMAGE_DATE: 1996 07 29
SOURCE_IMAGE_ID: NAPP 9132 144
SOURCE_IMAGE_DATE: 1996 07 29
SOURCE_IMAGE_ID: NAPP 9132 039
SOURCE_IMAGE_DATE: 1996 07 29
SOURCE_DEM_DATE: 1990 00 00
AGENCY: WESTERN MAPPING CENTER (WMC)
PRODUCER: UNDEFINED
PRODUCTION_SYSTEM: GIS/MAGIC
COMPRESSION: UNDEFINED
STANDARD_VERSION: 1996 12
METADATA_DATE: 1999 05 24
DATA_FILE_SIZE: 44100008
BYTE_COUNT: 5708
