FILENAME: O4610731.SWS.1008245.tif
QUADRANGLE_NAME: THEBES
QUADRANT: SW
WEST_LONGITUDE: -107 15 0.00000
EAST_LONGITUDE: -107 11 15.00000
NORTH_LATITUDE: 46 33 45.00000
SOUTH_LATITUDE: 46 30 0.00000
PRODUCTION_DATE: 1999 5 20
RASTER_ORDER: LEFT_RIGHT/TOP_BOTTOM
BAND_ORGANIZATION: SINGLE FILE
BAND_CONTENT: BLACK&WHITE
BAND_CONTENT: UNDEFINED
BAND_CONTENT: UNDEFINED
BITS_PER_PIXEL: 8
SAMPLES_AND_LINES: 5639 7682
HORIZONTAL_DATUM: NAD83
HORIZONTAL_COORDINATE_SYSTEM: UTM
COORDINATE_ZONE: 13
HORIZONTAL_UNITS: METERS
HORIZONTAL_RESOLUTION: 1.00000
SECONDARY_HORIZONTAL_DATUM: NAD27
XY_ORIGIN: 327006.00000 5159308.00000
SECONDARY_XY_ORIGIN: 327048.88200 5159089.65900
NATION: US
NATION: "SCIENCE
STATE: MT
NW_QUAD_CORNER_XY: 327553.54000 5159007.44900
NE_QUAD_CORNER_XY: 332343.59300 5158872.69100
SE_QUAD_CORNERY_XY: 332151.07600 5151928.12900
SW_QUAD_CORNER_XY: 327355.51800 5152062.90300
SECONDARY_NW_QUAD_XY: 327548.27400 5158789.20900
SECONDARY_NE_QUAD_XY: 332338.47400 5158654.44700
SECONDARY_SE_QUAD_XY: 332145.95800 5151709.92000
SECONDARY_SW_QUAD_XY: 327350.25300 5151844.69700
RMSE_XY: 0.90000
IMAGE_SOURCE: BLACK AND WHITE FILM
SOURCE_IMAGE_ID: NAPP 10765 014
SOURCE_IMAGE_DATE: 1997 09 23
SOURCE_DEM_DATE: 1956 00 00
AGENCY: WESTERN MAPPING CENTER (WMC)
PRODUCER: UNDEFINED
PRODUCTION_SYSTEM: GIS/MAGIC
COMPRESSION: UNDEFINED
STANDARD_VERSION: 1996 12
METADATA_DATE: 1999 06 02
DATA_FILE_SIZE: 43324437
BYTE_COUNT: 5639
