FILENAME: O4610725.NES.1008806.tif
QUADRANGLE_NAME: QUEENS POINT
QUADRANT: NE
WEST_LONGITUDE: -107 56 15.00000
EAST_LONGITUDE: -107 52 30.00000
NORTH_LATITUDE: 46 37 30.00000
SOUTH_LATITUDE: 46 33 45.00000
PRODUCTION_DATE: 1999 5 5
RASTER_ORDER: LEFT_RIGHT/TOP_BOTTOM
BAND_ORGANIZATION: SINGLE FILE
BAND_CONTENT: BLACK&WHITE
BAND_CONTENT: UNDEFINED
BAND_CONTENT: UNDEFINED
BITS_PER_PIXEL: 8
SAMPLES_AND_LINES: 5698 7725
HORIZONTAL_DATUM: NAD83
HORIZONTAL_COORDINATE_SYSTEM: UTM
COORDINATE_ZONE: 13
HORIZONTAL_UNITS: METERS
HORIZONTAL_RESOLUTION: 1.00000
SECONDARY_HORIZONTAL_DATUM: NAD27
XY_ORIGIN: 274511.00000 5167986.00000
SECONDARY_XY_ORIGIN: 274555.05500 5167768.10400
NATION: US
NATION: "SCIENCE
STATE: MT
NW_QUAD_CORNER_XY: 275122.64000 5167685.04300
NE_QUAD_CORNER_XY: 279907.03700 5167508.49100
SE_QUAD_CORNERY_XY: 279653.66800 5160564.06700
SW_QUAD_CORNER_XY: 274863.75400 5160740.64000
SECONDARY_NW_QUAD_XY: 275115.76300 5167466.82200
SECONDARY_NE_QUAD_XY: 279900.30600 5167290.26500
SECONDARY_SE_QUAD_XY: 279646.93900 5160345.87500
SECONDARY_SW_QUAD_XY: 274856.87800 5160522.45300
RMSE_XY: 1.40000
IMAGE_SOURCE: BLACK AND WHITE FILM
SOURCE_IMAGE_ID: NAPP 9151 072
SOURCE_IMAGE_DATE: 1996 09 11
SOURCE_IMAGE_ID: NAPP 9132 157
SOURCE_IMAGE_DATE: 1996 07 29
SOURCE_IMAGE_ID: NAPP 9151 071
SOURCE_IMAGE_DATE: 1996 09 11
SOURCE_IMAGE_ID: NAPP 9151 073
SOURCE_IMAGE_DATE: 1996 09 11
SOURCE_IMAGE_ID: NAPP 9132 043
SOURCE_IMAGE_DATE: 1996 07 29
SOURCE_DEM_DATE: 1997 01 01
AGENCY: WESTERN MAPPING CENTER (WMC)
PRODUCER: UNDEFINED
PRODUCTION_SYSTEM: GIS/MAGIC
COMPRESSION: UNDEFINED
STANDARD_VERSION: 1996 12
METADATA_DATE: 1999 05 24
DATA_FILE_SIZE: 44022748
BYTE_COUNT: 5698
