FILENAME: O4610719.SWS.1009326.tif
QUADRANGLE_NAME: GREBE RANCH
QUADRANT: SW
WEST_LONGITUDE: -107 45 0.00000
EAST_LONGITUDE: -107 41 15.00000
NORTH_LATITUDE: 46 41 15.00000
SOUTH_LATITUDE: 46 37 30.00000
PRODUCTION_DATE: 1999 5 17
RASTER_ORDER: LEFT_RIGHT/TOP_BOTTOM
BAND_ORGANIZATION: SINGLE FILE
BAND_CONTENT: BLACK&WHITE
BAND_CONTENT: UNDEFINED
BAND_CONTENT: UNDEFINED
BITS_PER_PIXEL: 8
SAMPLES_AND_LINES: 5675 7713
HORIZONTAL_DATUM: NAD83
HORIZONTAL_COORDINATE_SYSTEM: UTM
COORDINATE_ZONE: 13
HORIZONTAL_UNITS: METERS
HORIZONTAL_RESOLUTION: 1.00000
SECONDARY_HORIZONTAL_DATUM: NAD27
XY_ORIGIN: 289124.00000 5174412.00000
SECONDARY_XY_ORIGIN: 289167.89700 5174193.66600
NATION: US
NATION: "SCIENCE
STATE: MT
NW_QUAD_CORNER_XY: 289718.46500 5174111.32000
NE_QUAD_CORNER_XY: 294497.38400 5173946.19600
SE_QUAD_CORNERY_XY: 294260.31700 5167001.65100
SW_QUAD_CORNER_XY: 289475.87600 5167166.79600
SECONDARY_NW_QUAD_XY: 289712.02600 5173893.05100
SECONDARY_NE_QUAD_XY: 294491.09200 5173727.92200
SECONDARY_SE_QUAD_XY: 294254.02500 5166783.41000
SECONDARY_SW_QUAD_XY: 289469.43800 5166948.55900
RMSE_XY: 2.80000
IMAGE_SOURCE: BLACK AND WHITE FILM
SOURCE_IMAGE_ID: NAPP 9131 157
SOURCE_IMAGE_DATE: 1996 07 29
SOURCE_IMAGE_ID: NAPP 9131 138
SOURCE_IMAGE_DATE: 1996 07 29
SOURCE_DEM_DATE: 1961 00 00
AGENCY: WESTERN MAPPING CENTER (WMC)
PRODUCER: UNDEFINED
PRODUCTION_SYSTEM: GIS/MAGIC
COMPRESSION: UNDEFINED
STANDARD_VERSION: 1996 12
METADATA_DATE: 1999 06 15
DATA_FILE_SIZE: 43776950
BYTE_COUNT: 5675
