FILENAME: O4610705.NWS.1112203.tif
QUADRANGLE_NAME: MCGINNIS BUTTE
QUADRANT: NW
WEST_LONGITUDE: -107 30 0.00000
EAST_LONGITUDE: -107 26 15.00000
NORTH_LATITUDE: 47 0 0.00000
SOUTH_LATITUDE: 46 56 15.00000
PRODUCTION_DATE: 2000 11 7
RASTER_ORDER: LEFT_RIGHT/TOP_BOTTOM
BAND_ORGANIZATION: SINGLE FILE
BAND_CONTENT: BLACK&WHITE
BAND_CONTENT: UNDEFINED
BAND_CONTENT: UNDEFINED
BITS_PER_PIXEL: 8
SAMPLES_AND_LINES: 5625 7699
HORIZONTAL_DATUM: NAD83
HORIZONTAL_COORDINATE_SYSTEM: UTM
COORDINATE_ZONE: 13
HORIZONTAL_UNITS: METERS
HORIZONTAL_RESOLUTION: 1.00000
SECONDARY_HORIZONTAL_DATUM: NAD27
XY_ORIGIN: 309368.00000 5208499.00000
SECONDARY_XY_ORIGIN: 309411.53600 5208279.51700
NATION: US
NATION: "SCIENCE
STATE: MT
NW_QUAD_CORNER_XY: 309940.19700 5208197.57400
NE_QUAD_CORNER_XY: 314691.49200 5208047.75600
SE_QUAD_CORNERY_XY: 314475.39000 5201102.82100
SW_QUAD_CORNER_XY: 309718.54700 5201252.66100
SECONDARY_NW_QUAD_XY: 309934.33900 5207979.13300
SECONDARY_NE_QUAD_XY: 314685.78100 5207829.31000
SECONDARY_SE_QUAD_XY: 314469.67900 5200884.40400
SECONDARY_SW_QUAD_XY: 309712.69000 5201034.24900
RMSE_XY: 1.60000
IMAGE_SOURCE: BLACK AND WHITE FILM
SOURCE_IMAGE_ID: NAPP 9133 248
SOURCE_IMAGE_DATE: 1996 08 08
SOURCE_IMAGE_ID: NAPP 9133 249
SOURCE_IMAGE_DATE: 1996 08 08
SOURCE_DEM_DATE: 1988 00 00
AGENCY: WESTERN MAPPING CENTER (WMC)
PRODUCER: UNDEFINED
PRODUCTION_SYSTEM: GIS/MAGIC
COMPRESSION: UNDEFINED
STANDARD_VERSION: 1996 12
METADATA_DATE: 2000 11 16
DATA_FILE_SIZE: 43312500
BYTE_COUNT: 5625
