FILENAME: O4610702.NWS.1112131.tif
QUADRANGLE_NAME: HILL RANCH
QUADRANT: NW
WEST_LONGITUDE: -107 52 30.00000
EAST_LONGITUDE: -107 48 45.00000
NORTH_LATITUDE: 47 0 0.00000
SOUTH_LATITUDE: 46 56 15.00000
PRODUCTION_DATE: 2000 11 16
RASTER_ORDER: LEFT_RIGHT/TOP_BOTTOM
BAND_ORGANIZATION: SINGLE FILE
BAND_CONTENT: BLACK&WHITE
BAND_CONTENT: UNDEFINED
BAND_CONTENT: UNDEFINED
BITS_PER_PIXEL: 8
SAMPLES_AND_LINES: 5659 7721
HORIZONTAL_DATUM: NAD83
HORIZONTAL_COORDINATE_SYSTEM: UTM
COORDINATE_ZONE: 13
HORIZONTAL_UNITS: METERS
HORIZONTAL_RESOLUTION: 1.00000
SECONDARY_HORIZONTAL_DATUM: NAD27
XY_ORIGIN: 280826.00000 5209477.00000
SECONDARY_XY_ORIGIN: 280869.96700 5209258.04400
NATION: US
NATION: "SCIENCE
STATE: MT
NW_QUAD_CORNER_XY: 281432.77000 5209176.23600
NE_QUAD_CORNER_XY: 286183.96500 5209003.62900
SE_QUAD_CORNERY_XY: 285934.57100 5202058.83700
SW_QUAD_CORNER_XY: 281177.82600 5202231.46900
SECONDARY_NW_QUAD_XY: 281426.03300 5208957.82500
SECONDARY_NE_QUAD_XY: 286177.37400 5208785.21300
SECONDARY_SE_QUAD_XY: 285927.98100 5201840.44900
SECONDARY_SW_QUAD_XY: 281171.08900 5202013.08700
RMSE_XY: 2.80000
IMAGE_SOURCE: BLACK AND WHITE FILM
SOURCE_IMAGE_ID: NAPP 9132 054
SOURCE_IMAGE_DATE: 1996 07 29
SOURCE_DEM_DATE: 1990 00 00
AGENCY: WESTERN MAPPING CENTER (WMC)
PRODUCER: UNDEFINED
PRODUCTION_SYSTEM: GIS/MAGIC
COMPRESSION: UNDEFINED
STANDARD_VERSION: 1996 12
METADATA_DATE: 2000 11 16
DATA_FILE_SIZE: 43698798
BYTE_COUNT: 5659
