FILENAME: O4610864.NES.1006467.tif
QUADRANGLE_NAME: P K RANCH SE
QUADRANT: NE
WEST_LONGITUDE: -108 3 45.00000
EAST_LONGITUDE: -108 0 0.00000
NORTH_LATITUDE: 46 7 30.00000
SOUTH_LATITUDE: 46 3 45.00000
PRODUCTION_DATE: 1999 4 14
RASTER_ORDER: LEFT_RIGHT/TOP_BOTTOM
BAND_ORGANIZATION: SINGLE FILE
BAND_CONTENT: BLACK&WHITE
BAND_CONTENT: UNDEFINED
BAND_CONTENT: UNDEFINED
BITS_PER_PIXEL: 8
SAMPLES_AND_LINES: 5745 7732
HORIZONTAL_DATUM: NAD83
HORIZONTAL_COORDINATE_SYSTEM: UTM
COORDINATE_ZONE: 12
HORIZONTAL_UNITS: METERS
HORIZONTAL_RESOLUTION: 1.00000
SECONDARY_HORIZONTAL_DATUM: NAD27
XY_ORIGIN: 726588.00000 5112612.00000
SECONDARY_XY_ORIGIN: 726646.30900 5112399.32400
NATION: US
NATION: "SCIENCE
STATE: MT
NW_QUAD_CORNER_XY: 726940.88700 5112131.39500
NE_QUAD_CORNER_XY: 731769.24800 5112311.89900
SE_QUAD_CORNERY_XY: 732031.44200 5105367.96200
SW_QUAD_CORNER_XY: 727197.60900 5105187.44200
SECONDARY_NW_QUAD_XY: 726947.75300 5111913.46800
SECONDARY_NE_QUAD_XY: 731776.26100 5112093.97800
SECONDARY_SE_QUAD_XY: 732038.45300 5105150.08100
SECONDARY_SW_QUAD_XY: 727204.47400 5104969.55600
RMSE_XY: 1.60000
IMAGE_SOURCE: BLACK AND WHITE FILM
SOURCE_IMAGE_ID: NAPP 9142 057
SOURCE_IMAGE_DATE: 1996 08 24
SOURCE_DEM_DATE: 1973 00 00
AGENCY: WESTERN MAPPING CENTER (WMC)
PRODUCER: UNDEFINED
PRODUCTION_SYSTEM: GIS/MAGIC
COMPRESSION: UNDEFINED
STANDARD_VERSION: 1996 12
METADATA_DATE: 1999 05 18
DATA_FILE_SIZE: 44426085
BYTE_COUNT: 5745
