FILENAME: O4610861.SWS.1006013.tif
QUADRANGLE_NAME: NORTH FORK CROOKED CREEK EAST
QUADRANT: SW
WEST_LONGITUDE: -108 30 0.00000
EAST_LONGITUDE: -108 26 15.00000
NORTH_LATITUDE: 46 3 45.00000
SOUTH_LATITUDE: 46 0 0.00000
PRODUCTION_DATE: 1999 4 14
RASTER_ORDER: LEFT_RIGHT/TOP_BOTTOM
BAND_ORGANIZATION: SINGLE FILE
BAND_CONTENT: BLACK&WHITE
BAND_CONTENT: UNDEFINED
BAND_CONTENT: UNDEFINED
BITS_PER_PIXEL: 8
SAMPLES_AND_LINES: 5714 7708
HORIZONTAL_DATUM: NAD83
HORIZONTAL_COORDINATE_SYSTEM: UTM
COORDINATE_ZONE: 12
HORIZONTAL_UNITS: METERS
HORIZONTAL_RESOLUTION: 1.00000
SECONDARY_HORIZONTAL_DATUM: NAD27
XY_ORIGIN: 693006.00000 5104485.00000
SECONDARY_XY_ORIGIN: 693065.10400 5104273.50900
NATION: US
NATION: "SCIENCE
STATE: MT
NW_QUAD_CORNER_XY: 693360.51300 5104030.37000
NE_QUAD_CORNER_XY: 698194.41100 5104184.25100
SE_QUAD_CORNERY_XY: 698418.07900 5097240.27700
SW_QUAD_CORNER_XY: 693578.71900 5097086.38400
SECONDARY_NW_QUAD_XY: 693366.35500 5103812.44900
SECONDARY_NE_QUAD_XY: 698200.39900 5103966.33400
SECONDARY_SE_QUAD_XY: 698424.06500 5097022.40200
SECONDARY_SW_QUAD_XY: 693584.56000 5096868.50400
RMSE_XY: 1.40000
IMAGE_SOURCE: BLACK AND WHITE FILM
SOURCE_IMAGE_ID: NAPP 9137 224
SOURCE_IMAGE_DATE: 1996 08 23
SOURCE_IMAGE_ID: NAPP 9138 039
SOURCE_IMAGE_DATE: 1996 08 23
SOURCE_DEM_DATE: 1973 00 00
AGENCY: WESTERN MAPPING CENTER (WMC)
PRODUCER: UNDEFINED
PRODUCTION_SYSTEM: GIS/MAGIC
COMPRESSION: UNDEFINED
STANDARD_VERSION: 1996 12
METADATA_DATE: 1999 05 18
DATA_FILE_SIZE: 44049226
BYTE_COUNT: 5714
