FILENAME: O4610858.NWS.1005798.tif
QUADRANGLE_NAME: BROADVIEW EAST
QUADRANT: NW
WEST_LONGITUDE: -108 52 30.00000
EAST_LONGITUDE: -108 48 45.00000
NORTH_LATITUDE: 46 7 30.00000
SOUTH_LATITUDE: 46 3 45.00000
PRODUCTION_DATE: 1999 4 13
RASTER_ORDER: LEFT_RIGHT/TOP_BOTTOM
BAND_ORGANIZATION: SINGLE FILE
BAND_CONTENT: BLACK&WHITE
BAND_CONTENT: UNDEFINED
BAND_CONTENT: UNDEFINED
BITS_PER_PIXEL: 8
SAMPLES_AND_LINES: 5677 7685
HORIZONTAL_DATUM: NAD83
HORIZONTAL_COORDINATE_SYSTEM: UTM
COORDINATE_ZONE: 12
HORIZONTAL_UNITS: METERS
HORIZONTAL_RESOLUTION: 1.00000
SECONDARY_HORIZONTAL_DATUM: NAD27
XY_ORIGIN: 663815.00000 5110563.00000
SECONDARY_XY_ORIGIN: 663874.56800 5110351.55000
NATION: US
NATION: "SCIENCE
STATE: MT
NW_QUAD_CORNER_XY: 664171.31700 5110131.07400
NE_QUAD_CORNER_XY: 668999.79700 5110262.12500
SE_QUAD_CORNERY_XY: 669190.90300 5103318.01900
SW_QUAD_CORNER_XY: 664356.95800 5103186.95700
SECONDARY_NW_QUAD_XY: 664176.28400 5109913.08700
SECONDARY_NE_QUAD_XY: 669004.91000 5110044.14100
SECONDARY_SE_QUAD_XY: 669196.01400 5103100.07600
SECONDARY_SW_QUAD_XY: 664361.92300 5102969.01100
RMSE_XY: 1.40000
IMAGE_SOURCE: BLACK AND WHITE FILM
SOURCE_IMAGE_ID: NAPP 9157 016
SOURCE_IMAGE_DATE: 1997 09 05
SOURCE_DEM_DATE: 1979 00 00
AGENCY: WESTERN MAPPING CENTER (WMC)
PRODUCER: UNDEFINED
PRODUCTION_SYSTEM: GIS/MAGIC
COMPRESSION: UNDEFINED
STANDARD_VERSION: 1996 12
METADATA_DATE: 1999 05 18
DATA_FILE_SIZE: 43633422
BYTE_COUNT: 5677
