FILENAME: O4610851.SWS.1005942.tif
QUADRANGLE_NAME: HAY BASIN NORTH
QUADRANT: SW
WEST_LONGITUDE: -108 45 0.00000
EAST_LONGITUDE: -108 41 15.00000
NORTH_LATITUDE: 46 11 15.00000
SOUTH_LATITUDE: 46 7 30.00000
PRODUCTION_DATE: 1999 4 14
RASTER_ORDER: LEFT_RIGHT/TOP_BOTTOM
BAND_ORGANIZATION: SINGLE FILE
BAND_CONTENT: BLACK&WHITE
BAND_CONTENT: UNDEFINED
BAND_CONTENT: UNDEFINED
BITS_PER_PIXEL: 8
SAMPLES_AND_LINES: 5682 7692
HORIZONTAL_DATUM: NAD83
HORIZONTAL_COORDINATE_SYSTEM: UTM
COORDINATE_ZONE: 12
HORIZONTAL_UNITS: METERS
HORIZONTAL_RESOLUTION: 1.00000
SECONDARY_HORIZONTAL_DATUM: NAD27
XY_ORIGIN: 673276.00000 5117780.00000
SECONDARY_XY_ORIGIN: 673335.26400 5117568.31300
NATION: US
NATION: "SCIENCE
STATE: MT
NW_QUAD_CORNER_XY: 673631.49100 5117341.13700
NE_QUAD_CORNER_XY: 678454.48300 5117479.78100
SE_QUAD_CORNERY_XY: 678656.73400 5110535.63300
SW_QUAD_CORNER_XY: 673828.26900 5110396.97800
SECONDARY_NW_QUAD_XY: 673636.75000 5117123.11800
SECONDARY_NE_QUAD_XY: 678459.88900 5117261.76600
SECONDARY_SE_QUAD_XY: 678662.13900 5110317.65800
SECONDARY_SW_QUAD_XY: 673833.52800 5110178.99900
RMSE_XY: 1.50000
IMAGE_SOURCE: BLACK AND WHITE FILM
SOURCE_IMAGE_ID: NAPP 9140 083
SOURCE_IMAGE_DATE: 1996 08 23
SOURCE_DEM_DATE: 1973 00 00
AGENCY: WESTERN MAPPING CENTER (WMC)
PRODUCER: UNDEFINED
PRODUCTION_SYSTEM: GIS/MAGIC
COMPRESSION: UNDEFINED
STANDARD_VERSION: 1996 12
METADATA_DATE: 1999 05 18
DATA_FILE_SIZE: 43711626
BYTE_COUNT: 5682
