FILENAME: O4610850.SWS.1005796.tif
QUADRANGLE_NAME: BROADVIEW NE
QUADRANT: SW
WEST_LONGITUDE: -108 52 30.00000
EAST_LONGITUDE: -108 48 45.00000
NORTH_LATITUDE: 46 11 15.00000
SOUTH_LATITUDE: 46 7 30.00000
PRODUCTION_DATE: 1999 4 14
RASTER_ORDER: LEFT_RIGHT/TOP_BOTTOM
BAND_ORGANIZATION: SINGLE FILE
BAND_CONTENT: BLACK&WHITE
BAND_CONTENT: UNDEFINED
BAND_CONTENT: UNDEFINED
BITS_PER_PIXEL: 8
SAMPLES_AND_LINES: 5672 7685
HORIZONTAL_DATUM: NAD83
HORIZONTAL_COORDINATE_SYSTEM: UTM
COORDINATE_ZONE: 12
HORIZONTAL_UNITS: METERS
HORIZONTAL_RESOLUTION: 1.00000
SECONDARY_HORIZONTAL_DATUM: NAD27
XY_ORIGIN: 663629.00000 5117507.00000
SECONDARY_XY_ORIGIN: 663688.55000 5117295.32900
NATION: US
NATION: "SCIENCE
STATE: MT
NW_QUAD_CORNER_XY: 663985.48000 5117075.25600
NE_QUAD_CORNER_XY: 668808.49000 5117206.29600
SE_QUAD_CORNERY_XY: 668999.79700 5110262.12500
SW_QUAD_CORNER_XY: 664171.31700 5110131.07400
SECONDARY_NW_QUAD_XY: 663990.44800 5116857.22900
SECONDARY_NE_QUAD_XY: 668813.60300 5116988.27300
SECONDARY_SE_QUAD_XY: 669004.91000 5110044.14100
SECONDARY_SW_QUAD_XY: 664176.28400 5109913.08700
RMSE_XY: 1.80000
IMAGE_SOURCE: BLACK AND WHITE FILM
SOURCE_IMAGE_ID: NAPP 9157 018
SOURCE_IMAGE_DATE: 1997 09 05
SOURCE_DEM_DATE: 1989 00 00
AGENCY: WESTERN MAPPING CENTER (WMC)
PRODUCER: UNDEFINED
PRODUCTION_SYSTEM: GIS/MAGIC
COMPRESSION: UNDEFINED
STANDARD_VERSION: 1996 12
METADATA_DATE: 1999 05 18
DATA_FILE_SIZE: 43594992
BYTE_COUNT: 5672
