FILENAME: O4610848.SWS.1006462.tif
QUADRANGLE_NAME: STEAMBOAT BUTTE
QUADRANT: SW
WEST_LONGITUDE: -108 7 30.00000
EAST_LONGITUDE: -108 3 45.00000
NORTH_LATITUDE: 46 18 45.00000
SOUTH_LATITUDE: 46 15 0.00000
PRODUCTION_DATE: 1999 4 14
RASTER_ORDER: LEFT_RIGHT/TOP_BOTTOM
BAND_ORGANIZATION: SINGLE FILE
BAND_CONTENT: BLACK&WHITE
BAND_CONTENT: UNDEFINED
BAND_CONTENT: UNDEFINED
BITS_PER_PIXEL: 8
SAMPLES_AND_LINES: 5724 7729
HORIZONTAL_DATUM: NAD83
HORIZONTAL_COORDINATE_SYSTEM: UTM
COORDINATE_ZONE: 12
HORIZONTAL_UNITS: METERS
HORIZONTAL_RESOLUTION: 1.00000
SECONDARY_HORIZONTAL_DATUM: NAD27
XY_ORIGIN: 721004.00000 5133264.00000
SECONDARY_XY_ORIGIN: 721062.15400 5133050.94600
NATION: US
NATION: "SCIENCE
STATE: MT
NW_QUAD_CORNER_XY: 721357.16800 5132786.94100
NE_QUAD_CORNER_XY: 726169.09200 5132963.59100
SE_QUAD_CORNERY_XY: 726426.62800 5126019.46900
SW_QUAD_CORNER_XY: 721609.21600 5125842.80200
SECONDARY_NW_QUAD_XY: 721363.89200 5132568.89200
SECONDARY_NE_QUAD_XY: 726175.96300 5132745.54700
SECONDARY_SE_QUAD_XY: 726433.49700 5125801.46400
SECONDARY_SW_QUAD_XY: 721615.93800 5125624.79200
RMSE_XY: 1.50000
IMAGE_SOURCE: BLACK AND WHITE FILM
SOURCE_IMAGE_ID: NAPP 9142 240
SOURCE_IMAGE_DATE: 1996 08 24
SOURCE_IMAGE_ID: NAPP 9142 241
SOURCE_IMAGE_DATE: 1996 08 24
SOURCE_IMAGE_ID: NAPP 9142 239
SOURCE_IMAGE_DATE: 1996 08 24
SOURCE_DEM_DATE: 1973 00 00
AGENCY: WESTERN MAPPING CENTER (WMC)
PRODUCER: UNDEFINED
PRODUCTION_SYSTEM: GIS/MAGIC
COMPRESSION: UNDEFINED
STANDARD_VERSION: 1996 12
METADATA_DATE: 1999 05 18
DATA_FILE_SIZE: 44246520
BYTE_COUNT: 5724
