FILENAME: O4610842.SWS.1150834.tif
QUADRANGLE_NAME: BUNDY
QUADRANT: SW
WEST_LONGITUDE: -108 52 30.00000
EAST_LONGITUDE: -108 48 45.00000
NORTH_LATITUDE: 46 18 45.00000
SOUTH_LATITUDE: 46 15 0.00000
PRODUCTION_DATE: 2001 05 21
RASTER_ORDER: LEFT_RIGHT/TOP_BOTTOM
BAND_ORGANIZATION: SINGLE FILE
BAND_CONTENT: BLACK&WHITE
BAND_CONTENT: UNDEFINED
BAND_CONTENT: UNDEFINED
BITS_PER_PIXEL: 8
SAMPLES_AND_LINES: 5700 7710
HORIZONTAL_DATUM: NAD83
HORIZONTAL_COORDINATE_SYSTEM: UTM
COORDINATE_ZONE: 12
HORIZONTAL_UNITS: METERS
HORIZONTAL_RESOLUTION: 1.00000
SECONDARY_HORIZONTAL_DATUM: NAD27
XY_ORIGIN: 663240.00000 5131410.00000
SECONDARY_XY_ORIGIN: 663299.45700 5131197.91400
NATION: US
STATE: MT
NW_QUAD_CORNER_XY: 663613.21700 5130963.81800
NE_QUAD_CORNER_XY: 668425.26800 5131094.83400
SE_QUAD_CORNERY_XY: 668616.98000 5124150.53200
SW_QUAD_CORNER_XY: 663799.44700 5124019.50400
SECONDARY_NW_QUAD_XY: 663618.18700 5130745.71400
SECONDARY_NE_QUAD_XY: 668430.38400 5130876.73400
SECONDARY_SE_QUAD_XY: 668622.09400 5123932.47000
SECONDARY_SW_QUAD_XY: 663804.41600 5123801.43900
RMSE_XY: 2.29000
IMAGE_SOURCE: BLACK AND WHITE FILM
SOURCE_IMAGE_ID: NAPP 9157 22
SOURCE_IMAGE_DATE: 1997 09 05
SOURCE_DEM_DATE: 1988 00 00
AGENCY: WESTERN MAPPING CENTER (WMC)
PRODUCER: ANALYTICAL SURVEYS INC.
PRODUCTION_SYSTEM: ORBIT OR_RECTIFY V.5.2
COMPRESSION: UNDEFINED
STANDARD_VERSION: 1996 12
METADATA_DATE: 2001 05 22
DATA_FILE_SIZE: 43952700
BYTE_COUNT: 5700
