FILENAME: O4610841.NES.1150827.tif
QUADRANGLE_NAME: LAVINA
QUADRANT: NE
WEST_LONGITUDE: -108 56 15.00000
EAST_LONGITUDE: -108 52 30.00000
NORTH_LATITUDE: 46 22 30.00000
SOUTH_LATITUDE: 46 18 45.00000
PRODUCTION_DATE: 2001 05 21
RASTER_ORDER: LEFT_RIGHT/TOP_BOTTOM
BAND_ORGANIZATION: SINGLE FILE
BAND_CONTENT: BLACK&WHITE
BAND_CONTENT: UNDEFINED
BAND_CONTENT: UNDEFINED
BITS_PER_PIXEL: 8
SAMPLES_AND_LINES: 5670 7710
HORIZONTAL_DATUM: NAD83
HORIZONTAL_COORDINATE_SYSTEM: UTM
COORDINATE_ZONE: 12
HORIZONTAL_UNITS: METERS
HORIZONTAL_RESOLUTION: 1.00000
SECONDARY_HORIZONTAL_DATUM: NAD27
XY_ORIGIN: 658260.00000 5138220.00000
SECONDARY_XY_ORIGIN: 658319.52300 5138007.71300
NATION: US
STATE: MT
NW_QUAD_CORNER_XY: 658620.22100 5137780.99600
NE_QUAD_CORNER_XY: 663426.79200 5137908.19800
SE_QUAD_CORNERY_XY: 663613.21700 5130963.81800
SW_QUAD_CORNER_XY: 658801.15800 5130836.60400
SECONDARY_NW_QUAD_XY: 658625.04500 5137562.85100
SECONDARY_NE_QUAD_XY: 663431.76300 5137690.05700
SECONDARY_SE_QUAD_XY: 663618.18700 5130745.71400
SECONDARY_SW_QUAD_XY: 658805.98200 5130618.49600
RMSE_XY: 2.13000
IMAGE_SOURCE: BLACK AND WHITE FILM
SOURCE_IMAGE_ID: NAPP 9147 79
SOURCE_IMAGE_DATE: 1996 08 24
SOURCE_IMAGE_ID: NAPP 9157 190
SOURCE_IMAGE_DATE: 1997 09 05
SOURCE_DEM_DATE: 1988 00 00
AGENCY: WESTERN MAPPING CENTER (WMC)
PRODUCER: ANALYTICAL SURVEYS INC.
PRODUCTION_SYSTEM: ORBIT OR_RECTIFY V.5.2
COMPRESSION: UNDEFINED
STANDARD_VERSION: 1996 12
METADATA_DATE: 2001 05 22
DATA_FILE_SIZE: 43721370
BYTE_COUNT: 5670
