FILENAME: O4610833.SES.1150817.tif
QUADRANGLE_NAME: LAVINA NW
QUADRANT: SE
WEST_LONGITUDE: -108 56 15.00000
EAST_LONGITUDE: -108 52 30.00000
NORTH_LATITUDE: 46 26 15.00000
SOUTH_LATITUDE: 46 22 30.00000
PRODUCTION_DATE: 2001 05 21
RASTER_ORDER: LEFT_RIGHT/TOP_BOTTOM
BAND_ORGANIZATION: SINGLE FILE
BAND_CONTENT: BLACK&WHITE
BAND_CONTENT: UNDEFINED
BAND_CONTENT: UNDEFINED
BITS_PER_PIXEL: 8
SAMPLES_AND_LINES: 5670 7710
HORIZONTAL_DATUM: NAD83
HORIZONTAL_COORDINATE_SYSTEM: UTM
COORDINATE_ZONE: 12
HORIZONTAL_UNITS: METERS
HORIZONTAL_RESOLUTION: 1.00000
SECONDARY_HORIZONTAL_DATUM: NAD27
XY_ORIGIN: 658080.00000 5145180.00000
SECONDARY_XY_ORIGIN: 658139.44500 5144967.52800
NATION: US
STATE: MT
NW_QUAD_CORNER_XY: 658439.09300 5144725.45500
NE_QUAD_CORNER_XY: 663240.17100 5144852.64400
SE_QUAD_CORNERY_XY: 663426.79200 5137908.19800
SW_QUAD_CORNER_XY: 658620.22100 5137780.99600
SECONDARY_NW_QUAD_XY: 658443.91800 5144507.27400
SECONDARY_NE_QUAD_XY: 663245.14300 5144634.46600
SECONDARY_SE_QUAD_XY: 663431.76300 5137690.05700
SECONDARY_SW_QUAD_XY: 658625.04500 5137562.85100
RMSE_XY: 2.17000
IMAGE_SOURCE: BLACK AND WHITE FILM
SOURCE_IMAGE_ID: NAPP 9157 190
SOURCE_IMAGE_DATE: 1997 09 05
SOURCE_DEM_DATE: 1992 00 00
AGENCY: WESTERN MAPPING CENTER (WMC)
PRODUCER: ANALYTICAL SURVEYS INC.
PRODUCTION_SYSTEM: ORBIT OR_RECTIFY V.5.2
COMPRESSION: UNDEFINED
STANDARD_VERSION: 1996 12
METADATA_DATE: 2001 05 21
DATA_FILE_SIZE: 43721370
BYTE_COUNT: 5670
