FILENAME: O4610964.NES.1123011.tif
QUADRANGLE_NAME: HAILSTONE BASIN SE
QUADRANT: NE
WEST_LONGITUDE: -109 3 45.00000
EAST_LONGITUDE: -109 0 0.00000
NORTH_LATITUDE: 46 7 30.00000
SOUTH_LATITUDE: 46 3 45.00000
PRODUCTION_DATE: 2000 11 28
RASTER_ORDER: LEFT_RIGHT/TOP_BOTTOM
BAND_ORGANIZATION: SINGLE FILE
BAND_CONTENT: BLACK&WHITE
BAND_CONTENT: UNDEFINED
BAND_CONTENT: UNDEFINED
BITS_PER_PIXEL: 8
SAMPLES_AND_LINES: 5670 7710
HORIZONTAL_DATUM: NAD83
HORIZONTAL_COORDINATE_SYSTEM: UTM
COORDINATE_ZONE: 12
HORIZONTAL_UNITS: METERS
HORIZONTAL_RESOLUTION: 1.00000
SECONDARY_HORIZONTAL_DATUM: NAD27
XY_ORIGIN: 649320.00000 5110200.00000
SECONDARY_XY_ORIGIN: 649379.91200 5109988.60800
NATION: US
STATE: MT
NW_QUAD_CORNER_XY: 649685.83300 5109760.73100
NE_QUAD_CORNER_XY: 654514.33500 5109880.37700
SE_QUAD_CORNERY_XY: 654689.04700 5102936.24100
SW_QUAD_CORNER_XY: 649855.08100 5102816.58500
SECONDARY_NW_QUAD_XY: 649690.36200 5109542.73300
SECONDARY_NE_QUAD_XY: 654519.00900 5109662.38300
SECONDARY_SE_QUAD_XY: 654693.72000 5102718.28600
SECONDARY_SW_QUAD_XY: 649859.60900 5102598.62700
RMSE_XY: 1.97000
IMAGE_SOURCE: BLACK AND WHITE FILM
SOURCE_IMAGE_ID: NAPP 9129 88
SOURCE_IMAGE_DATE: 1996 07 27
SOURCE_IMAGE_ID: NAPP 9129 86
SOURCE_IMAGE_DATE: 1996 07 27
SOURCE_DEM_DATE: 1985 00 00
AGENCY: WESTERN MAPPING CENTER (WMC)
PRODUCER: ANALYTICAL SURVEYS INC.
PRODUCTION_SYSTEM: ORBIT OR_RECTIFY V.5.2
COMPRESSION: UNDEFINED
STANDARD_VERSION: 1996 12
METADATA_DATE: 2000 11 29
DATA_FILE_SIZE: 43721370
BYTE_COUNT: 5670
