FILENAME: O4610964.NWS.1123012.tif
QUADRANGLE_NAME: HAILSTONE BASIN SE
QUADRANT: NW
WEST_LONGITUDE: -109 7 30.00000
EAST_LONGITUDE: -109 3 45.00000
NORTH_LATITUDE: 46 7 30.00000
SOUTH_LATITUDE: 46 3 45.00000
PRODUCTION_DATE: 2000 11 28
RASTER_ORDER: LEFT_RIGHT/TOP_BOTTOM
BAND_ORGANIZATION: SINGLE FILE
BAND_CONTENT: BLACK&WHITE
BAND_CONTENT: UNDEFINED
BAND_CONTENT: UNDEFINED
BITS_PER_PIXEL: 8
SAMPLES_AND_LINES: 5670 7710
HORIZONTAL_DATUM: NAD83
HORIZONTAL_COORDINATE_SYSTEM: UTM
COORDINATE_ZONE: 12
HORIZONTAL_UNITS: METERS
HORIZONTAL_RESOLUTION: 1.00000
SECONDARY_HORIZONTAL_DATUM: NAD27
XY_ORIGIN: 644490.00000 5110080.00000
SECONDARY_XY_ORIGIN: 644549.99500 5109868.62000
NATION: US
STATE: MT
NW_QUAD_CORNER_XY: 644857.32500 5109644.88600
NE_QUAD_CORNER_XY: 649685.83300 5109760.73100
SE_QUAD_CORNERY_XY: 649855.08100 5102816.58500
SW_QUAD_CORNER_XY: 645021.10900 5102700.73000
SECONDARY_NW_QUAD_XY: 644861.70700 5109426.88400
SECONDARY_NE_QUAD_XY: 649690.36200 5109542.73300
SECONDARY_SE_QUAD_XY: 649859.60900 5102598.62700
SECONDARY_SW_QUAD_XY: 645025.49000 5102482.76900
RMSE_XY: 1.76000
IMAGE_SOURCE: BLACK AND WHITE FILM
SOURCE_IMAGE_ID: NAPP 9129 150
SOURCE_IMAGE_DATE: 1996 07 27
SOURCE_IMAGE_ID: NAPP 9129 152
SOURCE_IMAGE_DATE: 1996 07 27
SOURCE_IMAGE_ID: NAPP 9129 148
SOURCE_IMAGE_DATE: 1996 07 27
SOURCE_IMAGE_ID: NAPP 9130 72
SOURCE_IMAGE_DATE: 1996 07 27
SOURCE_DEM_DATE: 1985 00 00
AGENCY: WESTERN MAPPING CENTER (WMC)
PRODUCER: ANALYTICAL SURVEYS INC.
PRODUCTION_SYSTEM: ORBIT OR_RECTIFY V.5.2
COMPRESSION: UNDEFINED
STANDARD_VERSION: 1996 12
METADATA_DATE: 2000 11 29
DATA_FILE_SIZE: 43721370
BYTE_COUNT: 5670
