FILENAME: O4610962.SES.1123005.tif
QUADRANGLE_NAME: LOCOMOTIVE BUTTE SE
QUADRANT: SE
WEST_LONGITUDE: -109 18 45.00000
EAST_LONGITUDE: -109 15 0.00000
NORTH_LATITUDE: 46 3 45.00000
SOUTH_LATITUDE: 46 0 0.00000
PRODUCTION_DATE: 2000 11 28
RASTER_ORDER: LEFT_RIGHT/TOP_BOTTOM
BAND_ORGANIZATION: SINGLE FILE
BAND_CONTENT: BLACK&WHITE
BAND_CONTENT: UNDEFINED
BAND_CONTENT: UNDEFINED
BITS_PER_PIXEL: 8
SAMPLES_AND_LINES: 5670 7680
HORIZONTAL_DATUM: NAD83
HORIZONTAL_COORDINATE_SYSTEM: UTM
COORDINATE_ZONE: 12
HORIZONTAL_UNITS: METERS
HORIZONTAL_RESOLUTION: 1.00000
SECONDARY_HORIZONTAL_DATUM: NAD27
XY_ORIGIN: 630150.00000 5102790.00000
SECONDARY_XY_ORIGIN: 630210.09500 5102578.89500
NATION: US
STATE: MT
NW_QUAD_CORNER_XY: 630519.15700 5102375.97100
NE_QUAD_CORNER_XY: 635353.14700 5102480.42400
SE_QUAD_CORNERY_XY: 635505.84400 5095536.31900
SW_QUAD_CORNER_XY: 630666.39700 5095431.85900
SECONDARY_NW_QUAD_XY: 630523.10000 5102158.00000
SECONDARY_NE_QUAD_XY: 635357.23600 5102262.45600
SECONDARY_SE_QUAD_XY: 635509.93200 5095318.39300
SECONDARY_SW_QUAD_XY: 630670.33900 5095213.92900
RMSE_XY: 1.30000
IMAGE_SOURCE: BLACK AND WHITE FILM
SOURCE_IMAGE_ID: NAPP 9153 69
SOURCE_IMAGE_DATE: 1997 08 28
SOURCE_IMAGE_ID: NAPP 9153 21
SOURCE_IMAGE_DATE: 1997 08 28
SOURCE_DEM_DATE: 1985 00 00
AGENCY: WESTERN MAPPING CENTER (WMC)
PRODUCER: ANALYTICAL SURVEYS INC.
PRODUCTION_SYSTEM: ORBIT OR_RECTIFY V.5.2
COMPRESSION: UNDEFINED
STANDARD_VERSION: 1996 12
METADATA_DATE: 2000 11 29
DATA_FILE_SIZE: 43551270
BYTE_COUNT: 5670
