FILENAME: O4610961.SWS.1115304.tif
QUADRANGLE_NAME: LOCOMOTIVE BUTTE SW
QUADRANT: SW
WEST_LONGITUDE: -109 30 0.00000
EAST_LONGITUDE: -109 26 15.00000
NORTH_LATITUDE: 46 3 45.00000
SOUTH_LATITUDE: 46 0 0.00000
PRODUCTION_DATE: 2000 11 16
RASTER_ORDER: LEFT_RIGHT/TOP_BOTTOM
BAND_ORGANIZATION: SINGLE FILE
BAND_CONTENT: BLACK&WHITE
BAND_CONTENT: UNDEFINED
BAND_CONTENT: UNDEFINED
BITS_PER_PIXEL: 8
SAMPLES_AND_LINES: 5640 7680
HORIZONTAL_DATUM: NAD83
HORIZONTAL_COORDINATE_SYSTEM: UTM
COORDINATE_ZONE: 12
HORIZONTAL_UNITS: METERS
HORIZONTAL_RESOLUTION: 1.00000
SECONDARY_HORIZONTAL_DATUM: NAD27
XY_ORIGIN: 615660.00000 5102490.00000
SECONDARY_XY_ORIGIN: 615720.08800 5102278.72700
NATION: US
STATE: MT
NW_QUAD_CORNER_XY: 616017.15400 5102085.41500
NE_QUAD_CORNER_XY: 620851.16000 5102178.46700
SE_QUAD_CORNERY_XY: 620987.48900 5095234.34000
SW_QUAD_CORNER_XY: 616148.02700 5095141.28100
SECONDARY_NW_QUAD_XY: 616020.65900 5101867.43600
SECONDARY_NE_QUAD_XY: 620854.81100 5101960.49000
SECONDARY_SE_QUAD_XY: 620991.13900 5095016.40500
SECONDARY_SW_QUAD_XY: 616151.53100 5094923.34300
RMSE_XY: 1.37000
IMAGE_SOURCE: BLACK AND WHITE FILM
SOURCE_IMAGE_ID: NAPP 9153 214
SOURCE_IMAGE_DATE: 1997 08 28
SOURCE_DEM_DATE: 1985 00 00
AGENCY: WESTERN MAPPING CENTER (WMC)
PRODUCER: ANALYTICAL SURVEYS INC.
PRODUCTION_SYSTEM: ORBIT OR_RECTIFY V.5.2
COMPRESSION: UNDEFINED
STANDARD_VERSION: 1996 12
METADATA_DATE: 2000 11 17
DATA_FILE_SIZE: 43320840
BYTE_COUNT: 5640
