FILENAME: O4610959.NES.1115293.tif
QUADRANGLE_NAME: GIBSON SW
QUADRANT: NE
WEST_LONGITUDE: -109 41 15.00000
EAST_LONGITUDE: -109 37 30.00000
NORTH_LATITUDE: 46 7 30.00000
SOUTH_LATITUDE: 46 3 45.00000
PRODUCTION_DATE: 2000 11 16
RASTER_ORDER: LEFT_RIGHT/TOP_BOTTOM
BAND_ORGANIZATION: SINGLE FILE
BAND_CONTENT: BLACK&WHITE
BAND_CONTENT: UNDEFINED
BAND_CONTENT: UNDEFINED
BITS_PER_PIXEL: 8
SAMPLES_AND_LINES: 5640 7680
HORIZONTAL_DATUM: NAD83
HORIZONTAL_COORDINATE_SYSTEM: UTM
COORDINATE_ZONE: 12
HORIZONTAL_UNITS: METERS
HORIZONTAL_RESOLUTION: 1.00000
SECONDARY_HORIZONTAL_DATUM: NAD27
XY_ORIGIN: 601020.00000 5109180.00000
SECONDARY_XY_ORIGIN: 601079.85800 5108968.15900
NATION: US
STATE: MT
NW_QUAD_CORNER_XY: 601400.47800 5108773.28300
NE_QUAD_CORNER_XY: 606229.03800 5108854.93000
SE_QUAD_CORNERY_XY: 606349.12700 5101910.71000
SW_QUAD_CORNER_XY: 601515.10700 5101829.05700
SECONDARY_NW_QUAD_XY: 601403.54500 5108555.25400
SECONDARY_NE_QUAD_XY: 606232.25100 5108636.90400
SECONDARY_SE_QUAD_XY: 606352.34000 5101692.72500
SECONDARY_SW_QUAD_XY: 601518.17400 5101611.06900
RMSE_XY: 2.05000
IMAGE_SOURCE: BLACK AND WHITE FILM
SOURCE_IMAGE_ID: NAPP 9150 90
SOURCE_IMAGE_DATE: 1996 09 11
SOURCE_DEM_DATE: 1985 00 00
AGENCY: WESTERN MAPPING CENTER (WMC)
PRODUCER: ANALYTICAL SURVEYS INC.
PRODUCTION_SYSTEM: ORBIT OR_RECTIFY V.5.2
COMPRESSION: UNDEFINED
STANDARD_VERSION: 1996 12
METADATA_DATE: 2000 11 21
DATA_FILE_SIZE: 43320840
BYTE_COUNT: 5640
