FILENAME: O4610959.SWS.1115296.tif
QUADRANGLE_NAME: GIBSON SW
QUADRANT: SW
WEST_LONGITUDE: -109 45 0.00000
EAST_LONGITUDE: -109 41 15.00000
NORTH_LATITUDE: 46 3 45.00000
SOUTH_LATITUDE: 46 0 0.00000
PRODUCTION_DATE: 2000 11 16
RASTER_ORDER: LEFT_RIGHT/TOP_BOTTOM
BAND_ORGANIZATION: SINGLE FILE
BAND_CONTENT: BLACK&WHITE
BAND_CONTENT: UNDEFINED
BAND_CONTENT: UNDEFINED
BITS_PER_PIXEL: 8
SAMPLES_AND_LINES: 5640 7650
HORIZONTAL_DATUM: NAD83
HORIZONTAL_COORDINATE_SYSTEM: UTM
COORDINATE_ZONE: 12
HORIZONTAL_UNITS: METERS
HORIZONTAL_RESOLUTION: 1.00000
SECONDARY_HORIZONTAL_DATUM: NAD27
XY_ORIGIN: 596310.00000 5102130.00000
SECONDARY_XY_ORIGIN: 596369.90800 5101918.45500
NATION: US
STATE: MT
NW_QUAD_CORNER_XY: 596681.08200 5101751.20200
NE_QUAD_CORNER_XY: 601515.10700 5101829.05700
SE_QUAD_CORNERY_XY: 601629.61500 5094884.90300
SW_QUAD_CORNER_XY: 596790.13600 5094807.04200
SECONDARY_NW_QUAD_XY: 596684.00300 5101533.21200
SECONDARY_NE_QUAD_XY: 601518.17400 5101611.06900
SECONDARY_SE_QUAD_XY: 601632.68100 5094666.95700
SECONDARY_SW_QUAD_XY: 596793.05600 5094589.09400
RMSE_XY: 1.90000
IMAGE_SOURCE: BLACK AND WHITE FILM
SOURCE_IMAGE_ID: NAPP 9154 64
SOURCE_IMAGE_DATE: 1997 08 28
SOURCE_IMAGE_ID: NAPP 9150 163
SOURCE_IMAGE_DATE: 1996 09 11
SOURCE_IMAGE_ID: NAPP 9150 88
SOURCE_IMAGE_DATE: 1996 09 11
SOURCE_DEM_DATE: 1985 00 00
AGENCY: WESTERN MAPPING CENTER (WMC)
PRODUCER: ANALYTICAL SURVEYS INC.
PRODUCTION_SYSTEM: ORBIT OR_RECTIFY V.5.2
COMPRESSION: UNDEFINED
STANDARD_VERSION: 1996 12
METADATA_DATE: 2000 11 24
DATA_FILE_SIZE: 43151640
BYTE_COUNT: 5640
