FILENAME: O4610955.NWS.1122972.tif
QUADRANGLE_NAME: MOUNT SINAI
QUADRANT: NW
WEST_LONGITUDE: -109 15 0.00000
EAST_LONGITUDE: -109 11 15.00000
NORTH_LATITUDE: 46 15 0.00000
SOUTH_LATITUDE: 46 11 15.00000
PRODUCTION_DATE: 2000 11 27
RASTER_ORDER: LEFT_RIGHT/TOP_BOTTOM
BAND_ORGANIZATION: SINGLE FILE
BAND_CONTENT: BLACK&WHITE
BAND_CONTENT: UNDEFINED
BAND_CONTENT: UNDEFINED
BITS_PER_PIXEL: 8
SAMPLES_AND_LINES: 5670 7680
HORIZONTAL_DATUM: NAD83
HORIZONTAL_COORDINATE_SYSTEM: UTM
COORDINATE_ZONE: 12
HORIZONTAL_UNITS: METERS
HORIZONTAL_RESOLUTION: 1.00000
SECONDARY_HORIZONTAL_DATUM: NAD27
XY_ORIGIN: 634530.00000 5123730.00000
SECONDARY_XY_ORIGIN: 634590.30900 5123518.01100
NATION: US
STATE: MT
NW_QUAD_CORNER_XY: 634894.08500 5123313.15200
NE_QUAD_CORNER_XY: 639711.66300 5123421.37700
SE_QUAD_CORNERY_XY: 639870.32000 5116477.07500
SW_QUAD_CORNER_XY: 635047.26700 5116368.84000
SECONDARY_NW_QUAD_XY: 634898.17600 5123095.06500
SECONDARY_NE_QUAD_XY: 639715.90100 5123203.29300
SECONDARY_SE_QUAD_XY: 639874.55700 5116259.03000
SECONDARY_SW_QUAD_XY: 635051.35800 5116150.79200
RMSE_XY: 0.89000
IMAGE_SOURCE: BLACK AND WHITE FILM
SOURCE_IMAGE_ID: NAPP 9130 122
SOURCE_IMAGE_DATE: 1996 07 27
SOURCE_IMAGE_ID: NAPP 9130 120
SOURCE_IMAGE_DATE: 1996 07 27
SOURCE_IMAGE_ID: NAPP 9130 68
SOURCE_IMAGE_DATE: 1996 07 27
SOURCE_DEM_DATE: 1985 00 00
AGENCY: WESTERN MAPPING CENTER (WMC)
PRODUCER: ANALYTICAL SURVEYS INC.
PRODUCTION_SYSTEM: ORBIT OR_RECTIFY V.5.2
COMPRESSION: UNDEFINED
STANDARD_VERSION: 1996 12
METADATA_DATE: 2000 11 28
DATA_FILE_SIZE: 43551270
BYTE_COUNT: 5670
