FILENAME: O4610951.NWS.1115217.tif
QUADRANGLE_NAME: JIM CREEK
QUADRANT: NW
WEST_LONGITUDE: -109 45 0.00000
EAST_LONGITUDE: -109 41 15.00000
NORTH_LATITUDE: 46 15 0.00000
SOUTH_LATITUDE: 46 11 15.00000
PRODUCTION_DATE: 2000 11 16
RASTER_ORDER: LEFT_RIGHT/TOP_BOTTOM
BAND_ORGANIZATION: SINGLE FILE
BAND_CONTENT: BLACK&WHITE
BAND_CONTENT: UNDEFINED
BAND_CONTENT: UNDEFINED
BITS_PER_PIXEL: 8
SAMPLES_AND_LINES: 5610 7650
HORIZONTAL_DATUM: NAD83
HORIZONTAL_COORDINATE_SYSTEM: UTM
COORDINATE_ZONE: 12
HORIZONTAL_UNITS: METERS
HORIZONTAL_RESOLUTION: 1.00000
SECONDARY_HORIZONTAL_DATUM: NAD27
XY_ORIGIN: 595980.00000 5122980.00000
SECONDARY_XY_ORIGIN: 596039.54700 5122767.32700
NATION: US
STATE: MT
NW_QUAD_CORNER_XY: 596353.22800 5122584.11700
NE_QUAD_CORNER_XY: 601170.85500 5122661.95200
SE_QUAD_CORNERY_XY: 601285.72700 5115717.58100
SW_QUAD_CORNER_XY: 596462.62800 5115639.73900
SECONDARY_NW_QUAD_XY: 596356.15000 5122366.00800
SECONDARY_NE_QUAD_XY: 601173.92300 5122443.84500
SECONDARY_SE_QUAD_XY: 601288.79500 5115499.51300
SECONDARY_SW_QUAD_XY: 596465.55000 5115421.66900
RMSE_XY: 1.66000
IMAGE_SOURCE: BLACK AND WHITE FILM
SOURCE_IMAGE_ID: NAPP 9154 70
SOURCE_IMAGE_DATE: 1997 08 28
SOURCE_DEM_DATE: 1985 00 00
AGENCY: WESTERN MAPPING CENTER (WMC)
PRODUCER: ANALYTICAL SURVEYS INC.
PRODUCTION_SYSTEM: ORBIT OR_RECTIFY V.5.2
COMPRESSION: UNDEFINED
STANDARD_VERSION: 1996 12
METADATA_DATE: 2000 11 16
DATA_FILE_SIZE: 42922110
BYTE_COUNT: 5610
