FILENAME: O4610947.SWS.1150806.tif
QUADRANGLE_NAME: RYEGATE EAST
QUADRANT: SW
WEST_LONGITUDE: -109 15 0.00000
EAST_LONGITUDE: -109 11 15.00000
NORTH_LATITUDE: 46 18 45.00000
SOUTH_LATITUDE: 46 15 0.00000
PRODUCTION_DATE: 2001 05 16
RASTER_ORDER: LEFT_RIGHT/TOP_BOTTOM
BAND_ORGANIZATION: SINGLE FILE
BAND_CONTENT: BLACK&WHITE
BAND_CONTENT: UNDEFINED
BAND_CONTENT: UNDEFINED
BITS_PER_PIXEL: 8
SAMPLES_AND_LINES: 5640 7710
HORIZONTAL_DATUM: NAD83
HORIZONTAL_COORDINATE_SYSTEM: UTM
COORDINATE_ZONE: 12
HORIZONTAL_UNITS: METERS
HORIZONTAL_RESOLUTION: 1.00000
SECONDARY_HORIZONTAL_DATUM: NAD27
XY_ORIGIN: 634380.00000 5130690.00000
SECONDARY_XY_ORIGIN: 634440.19700 5130477.82900
NATION: US
STATE: MT
NW_QUAD_CORNER_XY: 634740.74000 5130257.53300
NE_QUAD_CORNER_XY: 639552.83900 5130365.74800
SE_QUAD_CORNERY_XY: 639711.66300 5123421.37700
SW_QUAD_CORNER_XY: 634894.08500 5123313.15200
SECONDARY_NW_QUAD_XY: 634744.83300 5130039.40800
SECONDARY_NE_QUAD_XY: 639557.07800 5130147.62600
SECONDARY_SE_QUAD_XY: 639715.90100 5123203.29300
SECONDARY_SW_QUAD_XY: 634898.17600 5123095.06500
RMSE_XY: 1.46000
IMAGE_SOURCE: BLACK AND WHITE FILM
SOURCE_IMAGE_ID: NAPP 9130 124
SOURCE_IMAGE_DATE: 1996 07 27
SOURCE_DEM_DATE: 1986 00 00
AGENCY: WESTERN MAPPING CENTER (WMC)
PRODUCER: ANALYTICAL SURVEYS INC.
PRODUCTION_SYSTEM: ORBIT OR_RECTIFY V.5.2
COMPRESSION: UNDEFINED
STANDARD_VERSION: 1996 12
METADATA_DATE: 2001 05 17
DATA_FILE_SIZE: 43490040
BYTE_COUNT: 5640
