FILENAME: O4610946.NES.1150799.tif
QUADRANGLE_NAME: RYEGATE WEST
QUADRANT: NE
WEST_LONGITUDE: -109 18 45.00000
EAST_LONGITUDE: -109 15 0.00000
NORTH_LATITUDE: 46 22 30.00000
SOUTH_LATITUDE: 46 18 45.00000
PRODUCTION_DATE: 2001 05 16
RASTER_ORDER: LEFT_RIGHT/TOP_BOTTOM
BAND_ORGANIZATION: SINGLE FILE
BAND_CONTENT: BLACK&WHITE
BAND_CONTENT: UNDEFINED
BAND_CONTENT: UNDEFINED
BITS_PER_PIXEL: 8
SAMPLES_AND_LINES: 5670 7710
HORIZONTAL_DATUM: NAD83
HORIZONTAL_COORDINATE_SYSTEM: UTM
COORDINATE_ZONE: 12
HORIZONTAL_UNITS: METERS
HORIZONTAL_RESOLUTION: 1.00000
SECONDARY_HORIZONTAL_DATUM: NAD27
XY_ORIGIN: 629400.00000 5137530.00000
SECONDARY_XY_ORIGIN: 629460.03600 5137317.60500
NATION: US
STATE: MT
NW_QUAD_CORNER_XY: 629780.61400 5137097.57900
NE_QUAD_CORNER_XY: 634587.23500 5137201.98400
SE_QUAD_CORNERY_XY: 634740.74000 5130257.53300
SW_QUAD_CORNER_XY: 629928.63400 5130153.11800
SECONDARY_NW_QUAD_XY: 629784.56100 5136879.41300
SECONDARY_NE_QUAD_XY: 634591.32800 5136983.82100
SECONDARY_SE_QUAD_XY: 634744.83300 5130039.40800
SECONDARY_SW_QUAD_XY: 629932.58000 5129934.98900
RMSE_XY: 1.36000
IMAGE_SOURCE: BLACK AND WHITE FILM
SOURCE_IMAGE_ID: NAPP 11010 41
SOURCE_IMAGE_DATE: 1998 08 13
SOURCE_DEM_DATE: 1986 00 00
AGENCY: WESTERN MAPPING CENTER (WMC)
PRODUCER: ANALYTICAL SURVEYS INC.
PRODUCTION_SYSTEM: ORBIT OR_RECTIFY V.5.2
COMPRESSION: UNDEFINED
STANDARD_VERSION: 1996 12
METADATA_DATE: 2001 05 17
DATA_FILE_SIZE: 43721370
BYTE_COUNT: 5670
