FILENAME: O4610946.NWS.1150800.tif
QUADRANGLE_NAME: RYEGATE WEST
QUADRANT: NW
WEST_LONGITUDE: -109 22 30.00000
EAST_LONGITUDE: -109 18 45.00000
NORTH_LATITUDE: 46 22 30.00000
SOUTH_LATITUDE: 46 18 45.00000
PRODUCTION_DATE: 2001 05 16
RASTER_ORDER: LEFT_RIGHT/TOP_BOTTOM
BAND_ORGANIZATION: SINGLE FILE
BAND_CONTENT: BLACK&WHITE
BAND_CONTENT: UNDEFINED
BAND_CONTENT: UNDEFINED
BITS_PER_PIXEL: 8
SAMPLES_AND_LINES: 5640 7680
HORIZONTAL_DATUM: NAD83
HORIZONTAL_COORDINATE_SYSTEM: UTM
COORDINATE_ZONE: 12
HORIZONTAL_UNITS: METERS
HORIZONTAL_RESOLUTION: 1.00000
SECONDARY_HORIZONTAL_DATUM: NAD27
XY_ORIGIN: 624600.00000 5137410.00000
SECONDARY_XY_ORIGIN: 624659.99800 5137197.57200
NATION: US
STATE: MT
NW_QUAD_CORNER_XY: 624973.98600 5136996.97200
NE_QUAD_CORNER_XY: 629780.61400 5137097.57900
SE_QUAD_CORNERY_XY: 629928.63400 5130153.11800
SW_QUAD_CORNER_XY: 625116.52100 5130052.50100
SECONDARY_NW_QUAD_XY: 624977.78700 5136778.80300
SECONDARY_NE_QUAD_XY: 629784.56100 5136879.41300
SECONDARY_SE_QUAD_XY: 629932.58000 5129934.98900
SECONDARY_SW_QUAD_XY: 625120.32100 5129834.36900
RMSE_XY: 1.37000
IMAGE_SOURCE: BLACK AND WHITE FILM
SOURCE_IMAGE_ID: NAPP 9153 104
SOURCE_IMAGE_DATE: 1997 08 28
SOURCE_DEM_DATE: 1986 00 00
AGENCY: WESTERN MAPPING CENTER (WMC)
PRODUCER: ANALYTICAL SURVEYS INC.
PRODUCTION_SYSTEM: ORBIT OR_RECTIFY V.5.2
COMPRESSION: UNDEFINED
STANDARD_VERSION: 1996 12
METADATA_DATE: 2001 05 17
DATA_FILE_SIZE: 43320840
BYTE_COUNT: 5640
