FILENAME: O4610945.SES.1150797.tif
QUADRANGLE_NAME: DEADMANS BASIN RESERVOIR
QUADRANT: SE
WEST_LONGITUDE: -109 26 15.00000
EAST_LONGITUDE: -109 22 30.00000
NORTH_LATITUDE: 46 18 45.00000
SOUTH_LATITUDE: 46 15 0.00000
PRODUCTION_DATE: 2001 05 16
RASTER_ORDER: LEFT_RIGHT/TOP_BOTTOM
BAND_ORGANIZATION: SINGLE FILE
BAND_CONTENT: BLACK&WHITE
BAND_CONTENT: UNDEFINED
BAND_CONTENT: UNDEFINED
BITS_PER_PIXEL: 8
SAMPLES_AND_LINES: 5640 7680
HORIZONTAL_DATUM: NAD83
HORIZONTAL_COORDINATE_SYSTEM: UTM
COORDINATE_ZONE: 12
HORIZONTAL_UNITS: METERS
HORIZONTAL_RESOLUTION: 1.00000
SECONDARY_HORIZONTAL_DATUM: NAD27
XY_ORIGIN: 619920.00000 5130360.00000
SECONDARY_XY_ORIGIN: 619980.02600 5130147.68200
NATION: US
STATE: MT
NW_QUAD_CORNER_XY: 620304.40100 5129955.68300
NE_QUAD_CORNER_XY: 625116.52100 5130052.50100
SE_QUAD_CORNERY_XY: 625258.90600 5123108.10000
SW_QUAD_CORNER_XY: 620441.30800 5123011.27300
SECONDARY_NW_QUAD_XY: 620308.05500 5129737.54900
SECONDARY_NE_QUAD_XY: 625120.32100 5129834.36900
SECONDARY_SE_QUAD_XY: 625262.70600 5122890.00700
SECONDARY_SW_QUAD_XY: 620444.96100 5122793.17700
RMSE_XY: 1.16000
IMAGE_SOURCE: BLACK AND WHITE FILM
SOURCE_IMAGE_ID: NAPP 9153 158
SOURCE_IMAGE_DATE: 1997 08 28
SOURCE_DEM_DATE: 1986 00 00
AGENCY: WESTERN MAPPING CENTER (WMC)
PRODUCER: ANALYTICAL SURVEYS INC.
PRODUCTION_SYSTEM: ORBIT OR_RECTIFY V.5.2
COMPRESSION: UNDEFINED
STANDARD_VERSION: 1996 12
METADATA_DATE: 2001 06 21
DATA_FILE_SIZE: 43320840
BYTE_COUNT: 5640
