FILENAME: O4610945.SWS.1150798.tif
QUADRANGLE_NAME: DEADMANS BASIN RESERVOIR
QUADRANT: SW
WEST_LONGITUDE: -109 30 0.00000
EAST_LONGITUDE: -109 26 15.00000
NORTH_LATITUDE: 46 18 45.00000
SOUTH_LATITUDE: 46 15 0.00000
PRODUCTION_DATE: 2001 05 16
RASTER_ORDER: LEFT_RIGHT/TOP_BOTTOM
BAND_ORGANIZATION: SINGLE FILE
BAND_CONTENT: BLACK&WHITE
BAND_CONTENT: UNDEFINED
BAND_CONTENT: UNDEFINED
BITS_PER_PIXEL: 8
SAMPLES_AND_LINES: 5640 7680
HORIZONTAL_DATUM: NAD83
HORIZONTAL_COORDINATE_SYSTEM: UTM
COORDINATE_ZONE: 12
HORIZONTAL_UNITS: METERS
HORIZONTAL_RESOLUTION: 1.00000
SECONDARY_HORIZONTAL_DATUM: NAD27
XY_ORIGIN: 615120.00000 5130270.00000
SECONDARY_XY_ORIGIN: 615179.97500 5130057.63500
NATION: US
STATE: MT
NW_QUAD_CORNER_XY: 615492.27500 5129862.66400
NE_QUAD_CORNER_XY: 620304.40100 5129955.68300
SE_QUAD_CORNERY_XY: 620441.30800 5123011.27300
SW_QUAD_CORNER_XY: 615623.70300 5122918.24500
SECONDARY_NW_QUAD_XY: 615495.78300 5129644.52600
SECONDARY_NE_QUAD_XY: 620308.05500 5129737.54900
SECONDARY_SE_QUAD_XY: 620444.96100 5122793.17700
SECONDARY_SW_QUAD_XY: 615627.21000 5122700.14600
RMSE_XY: 0.94000
IMAGE_SOURCE: BLACK AND WHITE FILM
SOURCE_IMAGE_ID: NAPP 9153 222
SOURCE_IMAGE_DATE: 1997 08 28
SOURCE_DEM_DATE: 1986 00 00
AGENCY: WESTERN MAPPING CENTER (WMC)
PRODUCER: ANALYTICAL SURVEYS INC.
PRODUCTION_SYSTEM: ORBIT OR_RECTIFY V.5.2
COMPRESSION: UNDEFINED
STANDARD_VERSION: 1996 12
METADATA_DATE: 2001 06 21
DATA_FILE_SIZE: 43320840
BYTE_COUNT: 5640
