FILENAME: O4610939.NWS.1150848.tif
QUADRANGLE_NAME: CUSHMAN NW
QUADRANT: NW
WEST_LONGITUDE: -109 15 0.00000
EAST_LONGITUDE: -109 11 15.00000
NORTH_LATITUDE: 46 30 0.00000
SOUTH_LATITUDE: 46 26 15.00000
PRODUCTION_DATE: 2001 05 16
RASTER_ORDER: LEFT_RIGHT/TOP_BOTTOM
BAND_ORGANIZATION: SINGLE FILE
BAND_CONTENT: BLACK&WHITE
BAND_CONTENT: UNDEFINED
BAND_CONTENT: UNDEFINED
BITS_PER_PIXEL: 8
SAMPLES_AND_LINES: 5640 7680
HORIZONTAL_DATUM: NAD83
HORIZONTAL_COORDINATE_SYSTEM: UTM
COORDINATE_ZONE: 12
HORIZONTAL_UNITS: METERS
HORIZONTAL_RESOLUTION: 1.00000
SECONDARY_HORIZONTAL_DATUM: NAD27
XY_ORIGIN: 633900.00000 5151510.00000
SECONDARY_XY_ORIGIN: 633959.87300 5151297.27700
NATION: US
STATE: MT
NW_QUAD_CORNER_XY: 634279.74000 5151091.09200
NE_QUAD_CORNER_XY: 639075.36500 5151199.27300
SE_QUAD_CORNERY_XY: 639234.69000 5144254.69600
SW_QUAD_CORNER_XY: 634433.56800 5144146.50300
SECONDARY_NW_QUAD_XY: 634283.83500 5150872.85700
SECONDARY_NE_QUAD_XY: 639079.60600 5150981.04100
SECONDARY_SE_QUAD_XY: 639238.93000 5144036.50000
SECONDARY_SW_QUAD_XY: 634437.66200 5143928.30400
RMSE_XY: 1.00000
IMAGE_SOURCE: BLACK AND WHITE FILM
SOURCE_IMAGE_ID: NAPP 9130 130
SOURCE_IMAGE_DATE: 1996 07 27
SOURCE_DEM_DATE: 1986 00 00
AGENCY: WESTERN MAPPING CENTER (WMC)
PRODUCER: ANALYTICAL SURVEYS INC.
PRODUCTION_SYSTEM: ORBIT OR_RECTIFY V.5.2
COMPRESSION: UNDEFINED
STANDARD_VERSION: 1996 12
METADATA_DATE: 2001 05 16
DATA_FILE_SIZE: 43320840
BYTE_COUNT: 5640
