FILENAME: O4610937.NWS.1150840.tif
QUADRANGLE_NAME: HALBERT CREEK SOUTH
QUADRANT: NW
WEST_LONGITUDE: -109 30 0.00000
EAST_LONGITUDE: -109 26 15.00000
NORTH_LATITUDE: 46 30 0.00000
SOUTH_LATITUDE: 46 26 15.00000
PRODUCTION_DATE: 2001 05 16
RASTER_ORDER: LEFT_RIGHT/TOP_BOTTOM
BAND_ORGANIZATION: SINGLE FILE
BAND_CONTENT: BLACK&WHITE
BAND_CONTENT: UNDEFINED
BAND_CONTENT: UNDEFINED
BITS_PER_PIXEL: 8
SAMPLES_AND_LINES: 5610 7650
HORIZONTAL_DATUM: NAD83
HORIZONTAL_COORDINATE_SYSTEM: UTM
COORDINATE_ZONE: 12
HORIZONTAL_UNITS: METERS
HORIZONTAL_RESOLUTION: 1.00000
SECONDARY_HORIZONTAL_DATUM: NAD27
XY_ORIGIN: 614730.00000 5151090.00000
SECONDARY_XY_ORIGIN: 614789.81900 5150877.24700
NATION: US
STATE: MT
NW_QUAD_CORNER_XY: 615097.16300 5150696.34600
NE_QUAD_CORNER_XY: 619892.81800 5150789.33600
SE_QUAD_CORNERY_XY: 620030.15600 5143844.71500
SW_QUAD_CORNER_XY: 615229.00500 5143751.71400
SECONDARY_NW_QUAD_XY: 615100.67200 5150478.09900
SECONDARY_NE_QUAD_XY: 619896.47400 5150571.09300
SECONDARY_SE_QUAD_XY: 620033.81200 5143626.50600
SECONDARY_SW_QUAD_XY: 615232.51400 5143533.50300
RMSE_XY: 0.75000
IMAGE_SOURCE: BLACK AND WHITE FILM
SOURCE_IMAGE_ID: NAPP 9153 228
SOURCE_IMAGE_DATE: 1997 08 28
SOURCE_DEM_DATE: 1986 00 00
AGENCY: WESTERN MAPPING CENTER (WMC)
PRODUCER: ANALYTICAL SURVEYS INC.
PRODUCTION_SYSTEM: ORBIT OR_RECTIFY V.5.2
COMPRESSION: UNDEFINED
STANDARD_VERSION: 1996 12
METADATA_DATE: 2001 06 20
DATA_FILE_SIZE: 42922110
BYTE_COUNT: 5610
