FILENAME: O4610932.NES.1150791.tif
QUADRANGLE_NAME: SAHARA HILL SE
QUADRANT: NE
WEST_LONGITUDE: -109 3 45.00000
EAST_LONGITUDE: -109 0 0.00000
NORTH_LATITUDE: 46 37 30.00000
SOUTH_LATITUDE: 46 33 45.00000
PRODUCTION_DATE: 2001 05 18
RASTER_ORDER: LEFT_RIGHT/TOP_BOTTOM
BAND_ORGANIZATION: SINGLE FILE
BAND_CONTENT: BLACK&WHITE
BAND_CONTENT: UNDEFINED
BAND_CONTENT: UNDEFINED
BITS_PER_PIXEL: 8
SAMPLES_AND_LINES: 5640 7710
HORIZONTAL_DATUM: NAD83
HORIZONTAL_COORDINATE_SYSTEM: UTM
COORDINATE_ZONE: 12
HORIZONTAL_UNITS: METERS
HORIZONTAL_RESOLUTION: 1.00000
SECONDARY_HORIZONTAL_DATUM: NAD27
XY_ORIGIN: 647970.00000 5165760.00000
SECONDARY_XY_ORIGIN: 648029.49200 5165547.03700
NATION: US
STATE: MT
NW_QUAD_CORNER_XY: 648325.41300 5165316.33600
NE_QUAD_CORNER_XY: 653109.99800 5165435.88400
SE_QUAD_CORNERY_XY: 653286.18400 5158491.21100
SW_QUAD_CORNER_XY: 648496.09000 5158371.64900
SECONDARY_NW_QUAD_XY: 648329.94900 5165098.04300
SECONDARY_NE_QUAD_XY: 653114.67900 5165217.59500
SECONDARY_SE_QUAD_XY: 653290.86500 5158272.95600
SECONDARY_SW_QUAD_XY: 648500.62400 5158153.39000
RMSE_XY: 1.94000
IMAGE_SOURCE: BLACK AND WHITE FILM
SOURCE_IMAGE_ID: NAPP 9129 72
SOURCE_IMAGE_DATE: 1996 07 27
SOURCE_DEM_DATE: 1986 00 00
AGENCY: WESTERN MAPPING CENTER (WMC)
PRODUCER: ANALYTICAL SURVEYS INC.
PRODUCTION_SYSTEM: ORBIT OR_RECTIFY V.5.2
COMPRESSION: UNDEFINED
STANDARD_VERSION: 1996 12
METADATA_DATE: 2001 05 18
DATA_FILE_SIZE: 43490040
BYTE_COUNT: 5640
