FILENAME: O4610931.NES.1150783.tif
QUADRANGLE_NAME: SAHARA HILL SW
QUADRANT: NE
WEST_LONGITUDE: -109 11 15.00000
EAST_LONGITUDE: -109 7 30.00000
NORTH_LATITUDE: 46 37 30.00000
SOUTH_LATITUDE: 46 33 45.00000
PRODUCTION_DATE: 2001 05 14
RASTER_ORDER: LEFT_RIGHT/TOP_BOTTOM
BAND_ORGANIZATION: SINGLE FILE
BAND_CONTENT: BLACK&WHITE
BAND_CONTENT: UNDEFINED
BAND_CONTENT: UNDEFINED
BITS_PER_PIXEL: 8
SAMPLES_AND_LINES: 5610 7710
HORIZONTAL_DATUM: NAD83
HORIZONTAL_COORDINATE_SYSTEM: UTM
COORDINATE_ZONE: 12
HORIZONTAL_UNITS: METERS
HORIZONTAL_RESOLUTION: 1.00000
SECONDARY_HORIZONTAL_DATUM: NAD27
XY_ORIGIN: 638400.00000 5165520.00000
SECONDARY_XY_ORIGIN: 638459.71500 5165307.01900
NATION: US
STATE: MT
NW_QUAD_CORNER_XY: 638756.21500 5165088.63200
NE_QUAD_CORNER_XY: 643540.81900 5165200.58500
SE_QUAD_CORNERY_XY: 643705.98600 5158255.88500
SW_QUAD_CORNER_XY: 638915.87300 5158143.91800
SECONDARY_NW_QUAD_XY: 638760.45800 5164870.33200
SECONDARY_NE_QUAD_XY: 643545.20800 5164982.28900
SECONDARY_SE_QUAD_XY: 643710.37400 5158037.62200
SECONDARY_SW_QUAD_XY: 638920.11500 5157925.65200
RMSE_XY: 1.16000
IMAGE_SOURCE: BLACK AND WHITE FILM
SOURCE_IMAGE_ID: NAPP 9130 59
SOURCE_IMAGE_DATE: 1996 07 27
SOURCE_IMAGE_ID: NAPP 9130 61
SOURCE_IMAGE_DATE: 1996 07 27
SOURCE_DEM_DATE: 1986 00 00
AGENCY: WESTERN MAPPING CENTER (WMC)
PRODUCER: ANALYTICAL SURVEYS INC.
PRODUCTION_SYSTEM: ORBIT OR_RECTIFY V.5.2
COMPRESSION: UNDEFINED
STANDARD_VERSION: 1996 12
METADATA_DATE: 2001 05 15
DATA_FILE_SIZE: 43258710
BYTE_COUNT: 5610
