FILENAME: O4610930.NES.1150779.tif
QUADRANGLE_NAME: ROTHIEMAY
QUADRANT: NE
WEST_LONGITUDE: -109 18 45.00000
EAST_LONGITUDE: -109 15 0.00000
NORTH_LATITUDE: 46 37 30.00000
SOUTH_LATITUDE: 46 33 45.00000
PRODUCTION_DATE: 2001 05 15
RASTER_ORDER: LEFT_RIGHT/TOP_BOTTOM
BAND_ORGANIZATION: SINGLE FILE
BAND_CONTENT: BLACK&WHITE
BAND_CONTENT: UNDEFINED
BAND_CONTENT: UNDEFINED
BITS_PER_PIXEL: 8
SAMPLES_AND_LINES: 5610 7710
HORIZONTAL_DATUM: NAD83
HORIZONTAL_COORDINATE_SYSTEM: UTM
COORDINATE_ZONE: 12
HORIZONTAL_UNITS: METERS
HORIZONTAL_RESOLUTION: 1.00000
SECONDARY_HORIZONTAL_DATUM: NAD27
XY_ORIGIN: 628830.00000 5165310.00000
SECONDARY_XY_ORIGIN: 628889.77800 5165097.00000
NATION: US
STATE: MT
NW_QUAD_CORNER_XY: 629186.98000 5164876.11800
NE_QUAD_CORNER_XY: 633971.60200 5164980.47700
SE_QUAD_CORNERY_XY: 634125.75100 5158035.75000
SW_QUAD_CORNER_XY: 629335.62100 5157931.37900
SECONDARY_NW_QUAD_XY: 629190.93000 5164657.81200
SECONDARY_NE_QUAD_XY: 633975.69800 5164762.17400
SECONDARY_SE_QUAD_XY: 634129.84700 5157817.48000
SECONDARY_SW_QUAD_XY: 629339.57100 5157713.10600
RMSE_XY: 1.77000
IMAGE_SOURCE: BLACK AND WHITE FILM
SOURCE_IMAGE_ID: NAPP 9153 51
SOURCE_IMAGE_DATE: 1997 08 28
SOURCE_DEM_DATE: 1979 00 00
AGENCY: WESTERN MAPPING CENTER (WMC)
PRODUCER: ANALYTICAL SURVEYS INC.
PRODUCTION_SYSTEM: ORBIT OR_RECTIFY V.5.2
COMPRESSION: UNDEFINED
STANDARD_VERSION: 1996 12
METADATA_DATE: 2001 05 15
DATA_FILE_SIZE: 43258710
BYTE_COUNT: 5610
