FILENAME: O4610929.NWS.1150776.tif
QUADRANGLE_NAME: HALBERT CREEK NORTH
QUADRANT: NW
WEST_LONGITUDE: -109 30 0.00000
EAST_LONGITUDE: -109 26 15.00000
NORTH_LATITUDE: 46 37 30.00000
SOUTH_LATITUDE: 46 33 45.00000
PRODUCTION_DATE: 2001 05 14
RASTER_ORDER: LEFT_RIGHT/TOP_BOTTOM
BAND_ORGANIZATION: SINGLE FILE
BAND_CONTENT: BLACK&WHITE
BAND_CONTENT: UNDEFINED
BAND_CONTENT: UNDEFINED
BITS_PER_PIXEL: 8
SAMPLES_AND_LINES: 5610 7650
HORIZONTAL_DATUM: NAD83
HORIZONTAL_COORDINATE_SYSTEM: UTM
COORDINATE_ZONE: 12
HORIZONTAL_UNITS: METERS
HORIZONTAL_RESOLUTION: 1.00000
SECONDARY_HORIZONTAL_DATUM: NAD27
XY_ORIGIN: 614460.00000 5164980.00000
SECONDARY_XY_ORIGIN: 614519.64100 5164766.96800
NATION: US
STATE: MT
NW_QUAD_CORNER_XY: 614833.06400 5164585.82300
NE_QUAD_CORNER_XY: 619617.71100 5164678.79100
SE_QUAD_CORNERY_XY: 619755.33600 5157734.02900
SW_QUAD_CORNER_XY: 614965.18200 5157641.04900
SECONDARY_NW_QUAD_XY: 614836.57600 5164367.50700
SECONDARY_NE_QUAD_XY: 619621.36800 5164460.47900
SECONDARY_SE_QUAD_XY: 619758.99300 5157515.75000
SECONDARY_SW_QUAD_XY: 614968.69300 5157422.76700
RMSE_XY: 0.78000
IMAGE_SOURCE: BLACK AND WHITE FILM
SOURCE_IMAGE_ID: NAPP 9153 232
SOURCE_IMAGE_DATE: 1997 08 28
SOURCE_DEM_DATE: 1986 00 00
AGENCY: WESTERN MAPPING CENTER (WMC)
PRODUCER: ANALYTICAL SURVEYS INC.
PRODUCTION_SYSTEM: ORBIT OR_RECTIFY V.5.2
COMPRESSION: UNDEFINED
STANDARD_VERSION: 1996 12
METADATA_DATE: 2001 05 15
DATA_FILE_SIZE: 42922110
BYTE_COUNT: 5610
