FILENAME: O4610923.NES.1150771.tif
QUADRANGLE_NAME: PATTERSON CANYON
QUADRANT: NE
WEST_LONGITUDE: -109 11 15.00000
EAST_LONGITUDE: -109 7 30.00000
NORTH_LATITUDE: 46 45 0.00000
SOUTH_LATITUDE: 46 41 15.00000
PRODUCTION_DATE: 2001 05 09
RASTER_ORDER: LEFT_RIGHT/TOP_BOTTOM
BAND_ORGANIZATION: SINGLE FILE
BAND_CONTENT: BLACK&WHITE
BAND_CONTENT: UNDEFINED
BAND_CONTENT: UNDEFINED
BITS_PER_PIXEL: 8
SAMPLES_AND_LINES: 5610 7710
HORIZONTAL_DATUM: NAD83
HORIZONTAL_COORDINATE_SYSTEM: UTM
COORDINATE_ZONE: 12
HORIZONTAL_UNITS: METERS
HORIZONTAL_RESOLUTION: 1.00000
SECONDARY_HORIZONTAL_DATUM: NAD27
XY_ORIGIN: 638070.00000 5179410.00000
SECONDARY_XY_ORIGIN: 638129.64900 5179196.74900
NATION: US
STATE: MT
NW_QUAD_CORNER_XY: 638436.40100 5178978.26700
NE_QUAD_CORNER_XY: 643209.96900 5179090.19100
SE_QUAD_CORNERY_XY: 643375.48000 5172145.35400
SW_QUAD_CORNER_XY: 638596.39100 5172033.41500
SECONDARY_NW_QUAD_XY: 638440.64500 5178759.90100
SECONDARY_NE_QUAD_XY: 643214.36000 5178871.83000
SECONDARY_SE_QUAD_XY: 643379.87000 5171927.02500
SECONDARY_SW_QUAD_XY: 638600.63400 5171815.08200
RMSE_XY: 1.30000
IMAGE_SOURCE: BLACK AND WHITE FILM
SOURCE_IMAGE_ID: NAPP 9139 187
SOURCE_IMAGE_DATE: 1996 08 26
SOURCE_IMAGE_ID: NAPP 9139 189
SOURCE_IMAGE_DATE: 1996 08 26
SOURCE_IMAGE_ID: NAPP 9153 32
SOURCE_IMAGE_DATE: 1997 08 28
SOURCE_DEM_DATE: 1979 00 00
AGENCY: WESTERN MAPPING CENTER (WMC)
PRODUCER: ANALYTICAL SURVEYS INC.
PRODUCTION_SYSTEM: ORBIT OR_RECTIFY V.5.2
COMPRESSION: UNDEFINED
STANDARD_VERSION: 1996 12
METADATA_DATE: 2001 05 11
DATA_FILE_SIZE: 43258710
BYTE_COUNT: 5610
