FILENAME: O4610922.NWS.1150768.tif
QUADRANGLE_NAME: GREEN ASHLY GULCH
QUADRANT: NW
WEST_LONGITUDE: -109 22 30.00000
EAST_LONGITUDE: -109 18 45.00000
NORTH_LATITUDE: 46 45 0.00000
SOUTH_LATITUDE: 46 41 15.00000
PRODUCTION_DATE: 2001 05 09
RASTER_ORDER: LEFT_RIGHT/TOP_BOTTOM
BAND_ORGANIZATION: SINGLE FILE
BAND_CONTENT: BLACK&WHITE
BAND_CONTENT: UNDEFINED
BAND_CONTENT: UNDEFINED
BITS_PER_PIXEL: 8
SAMPLES_AND_LINES: 5610 7680
HORIZONTAL_DATUM: NAD83
HORIZONTAL_COORDINATE_SYSTEM: UTM
COORDINATE_ZONE: 12
HORIZONTAL_UNITS: METERS
HORIZONTAL_RESOLUTION: 1.00000
SECONDARY_HORIZONTAL_DATUM: NAD27
XY_ORIGIN: 623730.00000 5179080.00000
SECONDARY_XY_ORIGIN: 623789.61400 5178866.71600
NATION: US
STATE: MT
NW_QUAD_CORNER_XY: 624115.63700 5178665.27000
NE_QUAD_CORNER_XY: 628889.23400 5178765.80600
SE_QUAD_CORNERY_XY: 629038.18400 5171820.92700
SW_QUAD_CORNER_XY: 624259.06800 5171720.37800
SECONDARY_NW_QUAD_XY: 624119.44200 5178446.89500
SECONDARY_NE_QUAD_XY: 628893.18500 5178547.43400
SECONDARY_SE_QUAD_XY: 629042.13500 5171602.58800
SECONDARY_SW_QUAD_XY: 624262.87200 5171502.03500
RMSE_XY: 4.27000
IMAGE_SOURCE: BLACK AND WHITE FILM
SOURCE_IMAGE_ID: NAPP 9153 116
SOURCE_IMAGE_DATE: 1997 08 28
SOURCE_IMAGE_ID: NAPP 9153 118
SOURCE_IMAGE_DATE: 1997 08 28
SOURCE_IMAGE_ID: NAPP 11010 46
SOURCE_IMAGE_DATE: 1998 08 13
SOURCE_DEM_DATE: 1993 00 00
AGENCY: WESTERN MAPPING CENTER (WMC)
PRODUCER: ANALYTICAL SURVEYS INC.
PRODUCTION_SYSTEM: ORBIT OR_RECTIFY V.5.2
COMPRESSION: UNDEFINED
STANDARD_VERSION: 1996 12
METADATA_DATE: 2001 05 11
DATA_FILE_SIZE: 43090410
BYTE_COUNT: 5610
