FILENAME: O4610921.SES.1150765.tif
QUADRANGLE_NAME: SNOW SAUCER COULEE
QUADRANT: SE
WEST_LONGITUDE: -109 26 15.00000
EAST_LONGITUDE: -109 22 30.00000
NORTH_LATITUDE: 46 41 15.00000
SOUTH_LATITUDE: 46 37 30.00000
PRODUCTION_DATE: 2001 05 09
RASTER_ORDER: LEFT_RIGHT/TOP_BOTTOM
BAND_ORGANIZATION: SINGLE FILE
BAND_CONTENT: BLACK&WHITE
BAND_CONTENT: UNDEFINED
BAND_CONTENT: UNDEFINED
BITS_PER_PIXEL: 8
SAMPLES_AND_LINES: 5610 7680
HORIZONTAL_DATUM: NAD83
HORIZONTAL_COORDINATE_SYSTEM: UTM
COORDINATE_ZONE: 12
HORIZONTAL_UNITS: METERS
HORIZONTAL_RESOLUTION: 1.00000
SECONDARY_HORIZONTAL_DATUM: NAD27
XY_ORIGIN: 619110.00000 5172030.00000
SECONDARY_XY_ORIGIN: 619169.61100 5171816.84000
NATION: US
STATE: MT
NW_QUAD_CORNER_XY: 619479.94200 5171623.62500
NE_QUAD_CORNER_XY: 624259.06800 5171720.37800
SE_QUAD_CORNERY_XY: 624402.35000 5164775.55700
SW_QUAD_CORNER_XY: 619617.71100 5164678.79100
SECONDARY_NW_QUAD_XY: 619483.60000 5171405.27900
SECONDARY_NE_QUAD_XY: 624262.87200 5171502.03500
SECONDARY_SE_QUAD_XY: 624406.15300 5164557.24700
SECONDARY_SW_QUAD_XY: 619621.36800 5164460.47900
RMSE_XY: 1.46000
IMAGE_SOURCE: BLACK AND WHITE FILM
SOURCE_IMAGE_ID: NAPP 11010 44
SOURCE_IMAGE_DATE: 1998 08 13
SOURCE_DEM_DATE: 1993 00 00
AGENCY: WESTERN MAPPING CENTER (WMC)
PRODUCER: ANALYTICAL SURVEYS INC.
PRODUCTION_SYSTEM: ORBIT OR_RECTIFY V.5.2
COMPRESSION: UNDEFINED
STANDARD_VERSION: 1996 12
METADATA_DATE: 2001 05 11
DATA_FILE_SIZE: 43090410
BYTE_COUNT: 5610
