FILENAME: O4610913.NWS.1150752.tif
QUADRANGLE_NAME: JUMP OFF PEAK
QUADRANT: NW
WEST_LONGITUDE: -109 30 0.00000
EAST_LONGITUDE: -109 26 15.00000
NORTH_LATITUDE: 46 52 30.00000
SOUTH_LATITUDE: 46 48 45.00000
PRODUCTION_DATE: 2001 05 07
RASTER_ORDER: LEFT_RIGHT/TOP_BOTTOM
BAND_ORGANIZATION: SINGLE FILE
BAND_CONTENT: BLACK&WHITE
BAND_CONTENT: UNDEFINED
BAND_CONTENT: UNDEFINED
BITS_PER_PIXEL: 8
SAMPLES_AND_LINES: 5610 7650
HORIZONTAL_DATUM: NAD83
HORIZONTAL_COORDINATE_SYSTEM: UTM
COORDINATE_ZONE: 12
HORIZONTAL_UNITS: METERS
HORIZONTAL_RESOLUTION: 1.00000
SECONDARY_HORIZONTAL_DATUM: NAD27
XY_ORIGIN: 613920.00000 5192760.00000
SECONDARY_XY_ORIGIN: 613979.62700 5192546.19100
NATION: US
STATE: MT
NW_QUAD_CORNER_XY: 614303.21800 5192365.62800
NE_QUAD_CORNER_XY: 619065.77800 5192458.54900
SE_QUAD_CORNERY_XY: 619203.97600 5185513.50300
SW_QUAD_CORNER_XY: 614435.88600 5185420.57100
SECONDARY_NW_QUAD_XY: 614306.73200 5192147.18600
SECONDARY_NE_QUAD_XY: 619069.43800 5192240.10900
SECONDARY_SE_QUAD_XY: 619207.63500 5185295.09400
SECONDARY_SW_QUAD_XY: 614439.39900 5185202.15900
RMSE_XY: 2.09000
IMAGE_SOURCE: BLACK AND WHITE FILM
SOURCE_IMAGE_ID: NAPP 9153 240
SOURCE_IMAGE_DATE: 1997 08 28
SOURCE_IMAGE_ID: NAPP 11013 8
SOURCE_IMAGE_DATE: 1998 08 27
SOURCE_IMAGE_ID: NAPP 9153 238
SOURCE_IMAGE_DATE: 1997 08 28
SOURCE_DEM_DATE: 1993 00 00
AGENCY: WESTERN MAPPING CENTER (WMC)
PRODUCER: ANALYTICAL SURVEYS INC.
PRODUCTION_SYSTEM: ORBIT OR_RECTIFY V.5.2
COMPRESSION: UNDEFINED
STANDARD_VERSION: 1996 12
METADATA_DATE: 2001 05 09
DATA_FILE_SIZE: 42922110
BYTE_COUNT: 5610
