FILENAME: O4610913.SES.1150753.tif
QUADRANGLE_NAME: JUMP OFF PEAK
QUADRANT: SE
WEST_LONGITUDE: -109 26 15.00000
EAST_LONGITUDE: -109 22 30.00000
NORTH_LATITUDE: 46 48 45.00000
SOUTH_LATITUDE: 46 45 0.00000
PRODUCTION_DATE: 2001 05 07
RASTER_ORDER: LEFT_RIGHT/TOP_BOTTOM
BAND_ORGANIZATION: SINGLE FILE
BAND_CONTENT: BLACK&WHITE
BAND_CONTENT: UNDEFINED
BAND_CONTENT: UNDEFINED
BITS_PER_PIXEL: 8
SAMPLES_AND_LINES: 5580 7680
HORIZONTAL_DATUM: NAD83
HORIZONTAL_COORDINATE_SYSTEM: UTM
COORDINATE_ZONE: 12
HORIZONTAL_UNITS: METERS
HORIZONTAL_RESOLUTION: 1.00000
SECONDARY_HORIZONTAL_DATUM: NAD27
XY_ORIGIN: 618840.00000 5185920.00000
SECONDARY_XY_ORIGIN: 618899.57500 5185706.45900
NATION: US
STATE: MT
NW_QUAD_CORNER_XY: 619203.97600 5185513.50300
NE_QUAD_CORNER_XY: 623972.05700 5185610.23100
SE_QUAD_CORNERY_XY: 624115.63700 5178665.27000
SW_QUAD_CORNER_XY: 619342.03100 5178568.52900
SECONDARY_NW_QUAD_XY: 619207.63500 5185295.09400
SECONDARY_NE_QUAD_XY: 623975.86300 5185391.82500
SECONDARY_SE_QUAD_XY: 624119.44200 5178446.89500
SECONDARY_SW_QUAD_XY: 619345.68900 5178350.15100
RMSE_XY: 3.55000
IMAGE_SOURCE: BLACK AND WHITE FILM
SOURCE_IMAGE_ID: NAPP 11013 6
SOURCE_IMAGE_DATE: 1998 08 27
SOURCE_IMAGE_ID: NAPP 11013 8
SOURCE_IMAGE_DATE: 1998 08 27
SOURCE_IMAGE_ID: NAPP 9153 238
SOURCE_IMAGE_DATE: 1997 08 28
SOURCE_IMAGE_ID: NAPP 11010 46
SOURCE_IMAGE_DATE: 1998 08 13
SOURCE_DEM_DATE: 1993 00 00
AGENCY: WESTERN MAPPING CENTER (WMC)
PRODUCER: ANALYTICAL SURVEYS INC.
PRODUCTION_SYSTEM: ORBIT OR_RECTIFY V.5.2
COMPRESSION: UNDEFINED
STANDARD_VERSION: 1996 12
METADATA_DATE: 2001 05 11
DATA_FILE_SIZE: 42859980
BYTE_COUNT: 5580
