BEGIN_USGS_DOQ_HEADER *
QUADRANGLE_NAME "Castle Butte" 3.75 or 7.5-min. name*
QUADRANT NW quadrant indicator if cell size = 3.75-minutes*
WEST_LONGITUDE -109 30 0.000 signed deg min sec SDDD MM SS.SSS*
EAST_LONGITUDE -109 26 15.000 signed deg min sec SDDD MM SS.SSS*
NORTH_LATITUDE 47 0 0.000 signed deg min sec SDDD MM SS.SSS*
SOUTH_LATITUDE 46 56 15.000 signed deg min sec SDDD MM SS.SSS*
PRODUCTION_DATE 2003 9 11 yyyy mm dd*
RASTER_ORDER left_right/top_bottom video display order*
BAND_ORGANIZATION "single file" single file or BSQ, or BIL or BIP*
BAND_CONTENT BLACK&WHITE black&white or red green blue*
BITS_PER_PIXEL 8 radiometric resolution*
SAMPLES_AND_LINES 5547 7643 number of columns and rows*
HORIZONTAL_DATUM NAD83 primary horizontal datum*
HORIZONTAL_COORDINATE_SYSTEM UTM *
COORDINATE_ZONE 12 coordinate system zone number*
HORIZONTAL_UNITS meters coordinate system units*
HORIZONTAL_RESOLUTION 1.00 pixel horiz. ground sample distance*
SECONDARY_HORIZONTAL_DATUM NAD27 secondary horizontal datum*
XY_ORIGIN 613681.680 5206648.350 coord. of upper left pixel pri. datum*
SECONDARY_XY_ORIGIN 613741.476 5206434.060 coord upper left pixel sec datum*
NATION US nation code*
STATE MT state fip code*
NW_QUAD_CORNER_XY 614037.473 5206255.958 XY coords. of pri. NW quad corner*
NE_QUAD_CORNER_XY 618788.955 5206348.851 XY coords. of pri. NE quad corner*
SE_QUAD_CORNER_XY 618927.438 5199403.665 XY coords. of pri. SE quad corner*
SW_QUAD_CORNER_XY 614170.414 5199310.758 XY coords. of pri. SW quad corner*
SECONDARY_NW_QUAD_XY 614040.987 5206037.457 XY coords. - sec. NW quad cor.*
SECONDARY_NE_QUAD_XY 618792.616 5206130.353 XY coords. - sec. NE quad cor.*
SECONDARY_SE_QUAD_XY 618931.098 5199185.196 XY coords. - sec. SE quad cor.*
SECONDARY_SW_QUAD_XY 614173.928 5199092.286 XY coords. - sec. SW quad cor.*
RMSE_XY 1.74 doq horiz. accuracy*
IMAGE_SOURCE "BLACK AND WHITE FILM" b&w, cir, natural color, other*
SOURCE_IMAGE_ID "NAPP 9153 244" source image id*
SOURCE_IMAGE_DATE 1997 8 28 source image date as yyyy mm dd*
SOURCE_IMAGE_ID "NAPP 9153 245" source image id*
SOURCE_IMAGE_DATE 1997 8 28 source image date as yyyy mm dd*
SOURCE_IMAGE_ID "NAPP 9153 243" source image id*
SOURCE_IMAGE_DATE 1997 8 28 source image date as yyyy mm dd*
SOURCE_IMAGE_ID "NAPP 9153 144" source image id*
SOURCE_IMAGE_DATE 1997 8 28 source image date as yyyy mm dd*
SOURCE_IMAGE_ID "NAPP 9153 143" source image id*
SOURCE_IMAGE_DATE 1997 8 28 source image date as yyyy mm dd*
SOURCE_IMAGE_ID "NAPP 9153 142" source image id*
SOURCE_IMAGE_DATE 1997 8 28 source image date as yyyy mm dd*
SOURCE_DEM_DATE 1968 1 1 source dem date yyyy mm dd*
AGENCY "ROCKY MOUNTAIN MAPPING CENTER (RMMC)" oversight agency*
PRODUCER "ROCKY MOUNTAIN MAPPING CENTER (RMMC)" producer/contractor*
PRODUCTION_SYSTEM "ImageStation OrthoPro 4, 0, 0, 5" production system*
STANDARD_VERSION 1996 12 version of DOQ standard*
METADATA_DATE 2003 9 11 date created or changed, yyyy mm dd*
DATA_FILE_SIZE 42401268 data set size in bytes*
BYTE_COUNT 5547 header byte count* * *
