FILENAME: O4611064.NWS.1115250.tif
QUADRANGLE_NAME: BATTLESHIP BUTTE
QUADRANT: NW
WEST_LONGITUDE: -110 7 30.00000
EAST_LONGITUDE: -110 3 45.00000
NORTH_LATITUDE: 46 7 30.00000
SOUTH_LATITUDE: 46 3 45.00000
PRODUCTION_DATE: 2000 11 14
RASTER_ORDER: LEFT_RIGHT/TOP_BOTTOM
BAND_ORGANIZATION: SINGLE FILE
BAND_CONTENT: BLACK&WHITE
BAND_CONTENT: UNDEFINED
BAND_CONTENT: UNDEFINED
BITS_PER_PIXEL: 8
SAMPLES_AND_LINES: 5580 7620
HORIZONTAL_DATUM: NAD83
HORIZONTAL_COORDINATE_SYSTEM: UTM
COORDINATE_ZONE: 12
HORIZONTAL_UNITS: METERS
HORIZONTAL_RESOLUTION: 1.00000
SECONDARY_HORIZONTAL_DATUM: NAD27
XY_ORIGIN: 567240.00000 5108670.00000
SECONDARY_XY_ORIGIN: 567299.49900 5108458.44400
NATION: US
STATE: MT
NW_QUAD_CORNER_XY: 567600.44300 5108308.10900
NE_QUAD_CORNER_XY: 572429.03000 5108363.16900
SE_QUAD_CORNERY_XY: 572510.90100 5101418.91000
SW_QUAD_CORNER_XY: 567676.85500 5101363.84600
SECONDARY_NW_QUAD_XY: 567602.48700 5108090.06700
SECONDARY_NE_QUAD_XY: 572431.22100 5108145.12800
SECONDARY_SE_QUAD_XY: 572513.09200 5101200.91000
SECONDARY_SW_QUAD_XY: 567678.90000 5101145.84400
RMSE_XY: 1.04000
IMAGE_SOURCE: BLACK AND WHITE FILM
SOURCE_IMAGE_ID: NAPP 9172 74
SOURCE_IMAGE_DATE: 1997 08 23
SOURCE_DEM_DATE: 1972 00 00
AGENCY: WESTERN MAPPING CENTER (WMC)
PRODUCER: ANALYTICAL SURVEYS INC.
PRODUCTION_SYSTEM: ORBIT OR_RECTIFY V.5.2
COMPRESSION: UNDEFINED
STANDARD_VERSION: 1996 12
METADATA_DATE: 2000 11 14
DATA_FILE_SIZE: 42525180
BYTE_COUNT: 5580
