FILENAME: O4611062.SWS.1145696.tif
QUADRANGLE_NAME: CRAZY PEAK
QUADRANT: SW
WEST_LONGITUDE: -110 22 30.00000
EAST_LONGITUDE: -110 18 45.00000
NORTH_LATITUDE: 46 3 45.00000
SOUTH_LATITUDE: 46 0 0.00000
PRODUCTION_DATE: 2001 03 13
RASTER_ORDER: LEFT_RIGHT/TOP_BOTTOM
BAND_ORGANIZATION: SINGLE FILE
BAND_CONTENT: BLACK&WHITE
BAND_CONTENT: UNDEFINED
BAND_CONTENT: UNDEFINED
BITS_PER_PIXEL: 8
SAMPLES_AND_LINES: 5580 7620
HORIZONTAL_DATUM: NAD83
HORIZONTAL_COORDINATE_SYSTEM: UTM
COORDINATE_ZONE: 12
HORIZONTAL_UNITS: METERS
HORIZONTAL_RESOLUTION: 1.00000
SECONDARY_HORIZONTAL_DATUM: NAD27
XY_ORIGIN: 547980.00000 5101530.00000
SECONDARY_XY_ORIGIN: 548039.62800 5101319.13400
NATION: US
STATE: MT
NW_QUAD_CORNER_XY: 548340.64400 5101181.57100
NE_QUAD_CORNER_XY: 553174.70000 5101221.44300
SE_QUAD_CORNERY_XY: 553234.67300 5094277.24400
SW_QUAD_CORNER_XY: 548395.16400 5094237.36900
SECONDARY_NW_QUAD_XY: 548342.10400 5100963.56400
SECONDARY_NE_QUAD_XY: 553176.30600 5101003.43700
SECONDARY_SE_QUAD_XY: 553236.27900 5094059.27900
SECONDARY_SW_QUAD_XY: 548396.62400 5094019.40300
RMSE_XY: 3.77000
IMAGE_SOURCE: BLACK AND WHITE FILM
SOURCE_IMAGE_ID: NAPP 12010 31
SOURCE_IMAGE_DATE: 1999 08 18
SOURCE_IMAGE_ID: NAPP 11009 98
SOURCE_IMAGE_DATE: 1998 07 22
SOURCE_IMAGE_ID: NAPP 11009 100
SOURCE_IMAGE_DATE: 1998 07 22
SOURCE_IMAGE_ID: NAPP 11009 97
SOURCE_IMAGE_DATE: 1998 07 22
SOURCE_IMAGE_ID: NAPP 9185 148
SOURCE_IMAGE_DATE: 1998 07 20
SOURCE_DEM_DATE: 1993 00 00
AGENCY: WESTERN MAPPING CENTER (WMC)
PRODUCER: ANALYTICAL SURVEYS INC.
PRODUCTION_SYSTEM: ORBIT OR_RECTIFY V.5.2
COMPRESSION: UNDEFINED
STANDARD_VERSION: 1996 12
METADATA_DATE: 2001 03 19
DATA_FILE_SIZE: 42525180
BYTE_COUNT: 5580
