FILENAME: O4611060.SES.1112068.tif
QUADRANGLE_NAME: LENA CREEK
QUADRANT: SE
WEST_LONGITUDE: -110 33 45.00000
EAST_LONGITUDE: -110 30 0.00000
NORTH_LATITUDE: 46 3 45.00000
SOUTH_LATITUDE: 46 0 0.00000
PRODUCTION_DATE: 2000 10 03
RASTER_ORDER: LEFT_RIGHT/TOP_BOTTOM
BAND_ORGANIZATION: SINGLE FILE
BAND_CONTENT: BLACK&WHITE
BAND_CONTENT: UNDEFINED
BAND_CONTENT: UNDEFINED
BITS_PER_PIXEL: 8
SAMPLES_AND_LINES: 5580 7620
HORIZONTAL_DATUM: NAD83
HORIZONTAL_COORDINATE_SYSTEM: UTM
COORDINATE_ZONE: 12
HORIZONTAL_UNITS: METERS
HORIZONTAL_RESOLUTION: 1.00000
SECONDARY_HORIZONTAL_DATUM: NAD27
XY_ORIGIN: 533460.00000 5101440.00000
SECONDARY_XY_ORIGIN: 533519.67500 5101229.33600
NATION: US
STATE: MT
NW_QUAD_CORNER_XY: 533838.46300 5101084.74100
NE_QUAD_CORNER_XY: 538672.52500 5101113.22000
SE_QUAD_CORNERY_XY: 538716.14100 5094169.01200
SW_QUAD_CORNER_XY: 533876.62600 5094140.53100
SECONDARY_NW_QUAD_XY: 533839.48500 5100866.73000
SECONDARY_NE_QUAD_XY: 538673.69300 5100895.21100
SECONDARY_SE_QUAD_XY: 538717.30800 5093951.04500
SECONDARY_SW_QUAD_XY: 533877.64800 5093922.56200
RMSE_XY: 3.39000
IMAGE_SOURCE: BLACK AND WHITE FILM
SOURCE_IMAGE_ID: NAPP 9167 22
SOURCE_IMAGE_DATE: 1996 08 26
SOURCE_DEM_DATE: 1972 00 00
AGENCY: WESTERN MAPPING CENTER (WMC)
PRODUCER: ANALYTICAL SURVEYS INC.
PRODUCTION_SYSTEM: ORBIT OR_RECTIFY V.5.2
COMPRESSION: UNDEFINED
STANDARD_VERSION: 1996 12
METADATA_DATE: 2000 11 03
DATA_FILE_SIZE: 42525180
BYTE_COUNT: 5580
