FILENAME: O4611059.NWS.1112063.tif
QUADRANGLE_NAME: COTTONWOOD RESERVOIR
QUADRANT: NW
WEST_LONGITUDE: -110 45 0.00000
EAST_LONGITUDE: -110 41 15.00000
NORTH_LATITUDE: 46 7 30.00000
SOUTH_LATITUDE: 46 3 45.00000
PRODUCTION_DATE: 2000 10 03
RASTER_ORDER: LEFT_RIGHT/TOP_BOTTOM
BAND_ORGANIZATION: SINGLE FILE
BAND_CONTENT: BLACK&WHITE
BAND_CONTENT: UNDEFINED
BAND_CONTENT: UNDEFINED
BITS_PER_PIXEL: 8
SAMPLES_AND_LINES: 5550 7620
HORIZONTAL_DATUM: NAD83
HORIZONTAL_COORDINATE_SYSTEM: UTM
COORDINATE_ZONE: 12
HORIZONTAL_UNITS: METERS
HORIZONTAL_RESOLUTION: 1.00000
SECONDARY_HORIZONTAL_DATUM: NAD27
XY_ORIGIN: 518940.00000 5108310.00000
SECONDARY_XY_ORIGIN: 518999.64400 5108099.42900
NATION: US
STATE: MT
NW_QUAD_CORNER_XY: 519314.43800 5107966.37700
NE_QUAD_CORNER_XY: 524143.04600 5107983.46300
SE_QUAD_CORNERY_XY: 524170.33500 5101039.17400
SW_QUAD_CORNER_XY: 519336.26900 5101022.08600
SECONDARY_NW_QUAD_XY: 519315.02200 5107748.32400
SECONDARY_NE_QUAD_XY: 524143.77600 5107765.41100
SECONDARY_SE_QUAD_XY: 524171.06500 5100821.16200
SECONDARY_SW_QUAD_XY: 519336.85300 5100804.07400
RMSE_XY: 1.97000
IMAGE_SOURCE: BLACK AND WHITE FILM
SOURCE_IMAGE_ID: NAPP 11006 63
SOURCE_IMAGE_DATE: 1998 07 21
SOURCE_DEM_DATE: 1972 00 00
AGENCY: WESTERN MAPPING CENTER (WMC)
PRODUCER: ANALYTICAL SURVEYS INC.
PRODUCTION_SYSTEM: ORBIT OR_RECTIFY V.5.2
COMPRESSION: UNDEFINED
STANDARD_VERSION: 1996 12
METADATA_DATE: 2000 10 03
DATA_FILE_SIZE: 42296550
BYTE_COUNT: 5550
