FILENAME: O4611059.SES.1112064.tif
QUADRANGLE_NAME: COTTONWOOD RESERVOIR
QUADRANT: SE
WEST_LONGITUDE: -110 41 15.00000
EAST_LONGITUDE: -110 37 30.00000
NORTH_LATITUDE: 46 3 45.00000
SOUTH_LATITUDE: 46 0 0.00000
PRODUCTION_DATE: 2000 10 03
RASTER_ORDER: LEFT_RIGHT/TOP_BOTTOM
BAND_ORGANIZATION: SINGLE FILE
BAND_CONTENT: BLACK&WHITE
BAND_CONTENT: UNDEFINED
BAND_CONTENT: UNDEFINED
BITS_PER_PIXEL: 8
SAMPLES_AND_LINES: 5550 7620
HORIZONTAL_DATUM: NAD83
HORIZONTAL_COORDINATE_SYSTEM: UTM
COORDINATE_ZONE: 12
HORIZONTAL_UNITS: METERS
HORIZONTAL_RESOLUTION: 1.00000
SECONDARY_HORIZONTAL_DATUM: NAD27
XY_ORIGIN: 523800.00000 5101380.00000
SECONDARY_XY_ORIGIN: 523859.78700 5101169.49900
NATION: US
STATE: MT
NW_QUAD_CORNER_XY: 524170.33500 5101039.17400
NE_QUAD_CORNER_XY: 529004.39900 5101060.05800
SE_QUAD_CORNERY_XY: 529037.11100 5094115.84700
SW_QUAD_CORNER_XY: 524197.59400 5094094.96100
SECONDARY_NW_QUAD_XY: 524171.06500 5100821.16200
SECONDARY_NE_QUAD_XY: 529005.27500 5100842.04800
SECONDARY_SE_QUAD_XY: 529037.98700 5093897.87800
SECONDARY_SW_QUAD_XY: 524198.32400 5093876.99100
RMSE_XY: 1.24000
IMAGE_SOURCE: BLACK AND WHITE FILM
SOURCE_IMAGE_ID: NAPP 11006 58
SOURCE_IMAGE_DATE: 1998 07 21
SOURCE_DEM_DATE: 1972 00 00
AGENCY: WESTERN MAPPING CENTER (WMC)
PRODUCER: ANALYTICAL SURVEYS INC.
PRODUCTION_SYSTEM: ORBIT OR_RECTIFY V.5.2
COMPRESSION: UNDEFINED
STANDARD_VERSION: 1996 12
METADATA_DATE: 2000 11 13
DATA_FILE_SIZE: 42296550
BYTE_COUNT: 5550
